Workbook

Sheet  Sažetak
A2: IZMJENE I DOPUNE FINANCIJSKOG PLANA PRVE OSNOVNE ŠKOLE ZA 2026. GODINU
A4: I. OPĆI DIO
A6: A) SAŽETAK RAČUNA PRIHODA I RASHODA
A8: RAZRED I NAZIV | F8: PLAN 2026. | G8: POVEĆANJE/ SMANJENJE | H8: NOVI PLAN 2026. | I8: INDEKS (4/2)
A9: 1 | F9: 2 | G9: 3 | H9: 4 | I9: 5
A10: PRIHODI UKUPNO | F10: =F11+F12 -> 3122216 | G10: =G11+G12 -> 302116 | H10: =H11+H12 -> 3424332 | I10: =H10/F10*100 -> 109.67633
A11: 6 PRIHODI POSLOVANJA | F11: =' Račun prihoda i rashoda'!B7 -> 3122086 | G11: =' Račun prihoda i rashoda'!C7 -> 302116 | H11: =' Račun prihoda i rashoda'!D7 -> 3424202 | I11: =H11/F11*100 -> 109.67674
A12: 7 PRIHODI OD PRODAJE NEFINANCIJSKE IMOVINE | F12: =' Račun prihoda i rashoda'!B12 -> 130 | G12: =' Račun prihoda i rashoda'!C12 -> 0 | H12: =' Račun prihoda i rashoda'!D12 -> 130 | I12: =H12/F12*100 -> 100
A13: RASHODI UKUPNO | F13: =F14+F15 -> 3122216 | G13: =G14+G15 -> 314897 | H13: =H14+H15 -> 3437113 | I13: =H13/F13*100 -> 110.08569
A14: 3 RASHODI POSLOVANJA | F14: =' Račun prihoda i rashoda'!B15 -> 3048771 | G14: =' Račun prihoda i rashoda'!C15 -> 222668 | H14: =' Račun prihoda i rashoda'!D15 -> 3271439 | I14: =H14/F14*100 -> 107.30353
A15: 4 RASHODI ZA NABAVU NEFINANCIJSKE IMOVINE | F15: =' Račun prihoda i rashoda'!B21 -> 73445 | G15: =' Račun prihoda i rashoda'!C21 -> 92229 | H15: =' Račun prihoda i rashoda'!D21 -> 165674 | I15: =H15/F15*100 -> 225.5756
A16: RAZLIKA - VIŠAK / MANJAK | F16: =F10-F13 -> 0 | G16: =G10-G13 -> -12781 | H16: =H10-H13 -> -12781 | I16: 0
A18: B) SAŽETAK RAČUNA FINANCIRANJA
A20: RAZRED I NAZIV | F20: PLAN 2026. | G20: POVEĆANJE/ SMANJENJE | H20: NOVI PLAN 2026. | I20: INDEKS (4/2)
A21: 1 | F21: 2 | G21: 3 | H21: 4 | I21: 5
A22: 8 PRIMICI OD FINANCIJSKE IMOVINE I ZADUŽIVANJA | F22: 0 | G22: 0 | H22: 0 | I22: 0
A23: 5 IZDACI ZA FINANCIJSKU IMOVINU I OTPLATE ZAJMOVA | F23: 0 | G23: 0 | H23: 0 | I23: 0
A24: NETO FINANCIRANJE | F24: =F22-F23 -> 0 | G24: =G22-G23 -> 0 | H24: =H22-H23 -> 0 | I24: 0
A25: NEUTROŠENA SREDSTVA IZ PRETHODNIH GODINA | F25: 0 | G25: =' Račun prihoda i rashoda'!C27 -> 12781 | H25: =' Račun prihoda i rashoda'!D27 -> 12781 | I25: 0
A27: UKUPNO FINANCIJSKI PLAN
A29: NAZIV | F29: PLAN 2026. | G29: POVEĆANJE/ SMANJENJE | H29: NOVI PLAN 2026. | I29: INDEKS (4/2)
A30: 1 | F30: 2 | G30: 3 | H30: 4 | I30: 5
A31: UKUPNO FINANCIJSKI PLAN
A32: PRIHODI, PRIMICI I NEUTROŠENA SREDSTVA | F32: =F10+F22+F25 -> 3122216 | G32: =G10+G22+G25 -> 314897 | H32: =H10+H22+H25 -> 3437113 | I32: =H32/F32*100 -> 110.08569
A33: RASHODI I IZDACI | F33: =F13 -> 3122216 | G33: =G13 -> 314897 | H33: =H13 -> 3437113 | I33: =H33/F33*100 -> 110.08569
A35: D) VIŠEGODIŠNJI PLAN URAVNOTEŽENJA
A37: NAZIV | F37: PLAN 2025. | G37: POVEĆANJE/ SMANJENJE | H37: NOVI PLAN 2025. | I37: INDEKS (4/2)
A38: 1 | F38: 2 | G38: 3 | H38: 4 | I38: 5
A39: PRIJENOS VIŠKA / MANJKA IZ PRETHODNE(IH) GODINE | F39: 0 | G39: =F42 -> 0 | H39: =G42 -> 0 | I39: =H42 -> 0
A40: VIŠAK / MANJAK IZ PRETHODNE(IH) GODINE KOJI ĆE SE RASPOREDITI / POKRITI | F40: 0 | G40: 0 | H40: 0 | I40: 0
A41: VIŠAK / MANJAK TEKUĆE GODINE (VIŠAK / MANJAK + NETO FINANCIRANJE) | F41: 0 | G41: 0 | H41: 0 | I41: 0
A42: PRIJENOS VIŠKA / MANJKA U SLJEDEĆE RAZDOBLJE | F42: =F39-F40+F41 -> 0 | G42: =G39-G40+G41 -> 0 | H42: =H39-H40+H41 -> 0 | I42: =I39-I40+I41 -> 0

Sheet  Račun prihoda i rashoda
A1: A. RAČUN PRIHODA I RASHODA
A2: IZMJENE I DOPUNE FINANCIJSKOG PLANA PRVE OSNOVNE ŠKOLE ZA 2026. GODINU
A4: Oznaka | B4: PLAN 2026. | C4: POVEĆANJE/ SMANJENJE | D4: NOVI PLAN 2026. | E4: INDEKS (4/2)
A5: 1 | B5: 2 | C5: 3 | D5: 4 | E5: 5
A6: A. RAČUN PRIHODA I RASHODA
A7: 6 Prihodi poslovanja | B7: 3122086 | C7: 302116 | D7: 3424202 | E7: 109.68
A8: 63 Pomoći iz inozemstva i od subjekata unutar općeg proračuna | B8: 2528299 | C8: 200014 | D8: 2728313 | E8: 107.91
A9: 65 Prihodi od upravnih i administrativnih pristojbi, pristojbi po posebnim propisima i naknada | B9: 115447 | C9: -5741 | D9: 109706 | E9: 95.03
A10: 66 Prihodi od prodaje proizvoda i robe te pruženih usluga i prihodi od donacija te povrati po protestiranim jamstvima | B10: 6433 | C10: 0 | D10: 6433 | E10: 100
A11: 67 Prihodi iz nadležnog proračuna i od HZZO-a temeljem ugovornih obveza | B11: 471907 | C11: 107843 | D11: 579750 | E11: 122.85
A12: 7 Prihodi od prodaje nefinancijske imovine | B12: 130 | C12: 0 | D12: 130 | E12: 100
A13: 72 Prihodi od prodaje proizvedene dugotrajne imovine | B13: 130 | C13: 0 | D13: 130 | E13: 100
A14: SVEUKUPNO PRIHODI | B14: 3122216 | C14: 302116 | D14: 3424332 | E14: 109.68
A15: 3 Rashodi poslovanja | B15: 3048771 | C15: 222668 | D15: 3271439 | E15: 107.3
A16: 31 Rashodi za zaposlene | B16: 2466400 | C16: 201335 | D16: 2667735 | E16: 108.16
A17: 32 Materijalni rashodi | B17: 547508 | C17: 21333 | D17: 568841 | E17: 103.9
A18: 34 Financijski rashodi | B18: 1163 | C18: 0 | D18: 1163 | E18: 100
... A25: SVEUKUPNO RASHODI | B25: 3122216 | C25: 314897 | D25: 3437113 | E25: 110.09
A26: NEUTROŠENA SREDSTVA IZ PRETHODNIH GODINA | B26: 0 | C26: =D26-B26 -> 12781 | D26: =D27 -> 12781 | E26: 0
A27: 9 Vlastiti izvori | B27: 0 | C27: =D27-B27 -> 12781 | D27: =D28 -> 12781 | E27: 0
A28: 92 Rezultat poslovanja | B28: 0 | C28: 12781 | D28: 12781 | E28: 0
A29: SVEUKUPNO PRIHODI, PRIMICI I NEUTROŠENA SREDSTVA | B29: =B14+B26 -> 3122216 | C29: =C14+C26 -> 314897 | D29: =D14+D26 -> 3437113 | E29: =D29/B29*100 -> 110.08569
A31: A2. PRIHODI I RASHODI PREMA IZVORIMA FINANCIRANJA
A32: Oznaka | B32: PLAN 2026. | C32: POVEĆANJE/ SMANJENJE | D32: NOVI PLAN 2026. | E32: INDEKS (4/2)
A33: 1 | B33: 2 | C33: 3 | D33: 4 | E33: 5
A34: SVEUKUPNO PRIHODI I NEUTROŠENA SREDSTVA | B34: 3122216 | C34: 314897 | D34: 3437113 | E34: 110.09
A35: 1 OPĆI PRIHODI I PRIMICI | B35: 110063 | C35: 36423 | D35: 146486 | E35: 133.09
A36: 11 Opći prihodi i primici | B36: 110063 | C36: 36423 | D36: 146486 | E36: 133.09
A37: 3 VLASTITI PRIHODI | B37: 1083 | C37: 1229 | D37: 2312 | E37: 213.48
A38: 31 Vlastiti prihodi | B38: 1083 | C38: 1229 | D38: 2312 | E38: 213.48
A39: 4 Prihodi za posebne namjene | B39: 115447 | C39: 500 | D39: 115947 | E39: 100.43
A40: 43 Ostali prihodi za posebne namjene | B40: 115447 | C40: 500 | D40: 115947 | E40: 100.43
A41: 5 POMOĆI | B41: 2890143 | C41: 276745 | D41: 3166888 | E41: 109.58
A42: 50 Pomoći | B42: 2656781 | C42: 205245 | D42: 2862026 | E42: 107.73
A43: 52 Ostale pomoći | B43: 150472 | C43: 500 | D43: 150972 | E43: 100.33
A44: 56 Fondovi EU-a | B44: 70890 | C44: 0 | D44: 70890 | E44: 100
A45: 58 Instrumenti EU nove generacije | B45: 12000 | C45: 71000 | D45: 83000 | E45: 691.67
... A65: 71 Prihodi od prodaje ili zamjene nefinancijske imovine i naknade s naslova osiguranja | B65: 130 | C65: 0 | D65: 130 | E65: 100
A67: A3. RASHODI PREMA FUNKCIJSKOJ KLASIFIKACIJI
A68: Oznaka | B68: PLAN 2025. | C68: POVEĆANJE/ SMANJENJE | D68: NOVI PLAN 2025. | E68: INDEKS (4/2)
...

Sheet  Račun financiranja
A2: IZMJENE I DOPUNE FINANCIJSKOG PLANA PRVE OSNOVNE ŠKOLE ZA 2026. GODINU
A4: B1. RAČUN FINANCIRANJA PREMA EKONOMSKOJ KLASIFIKACIJI
A6: Razred/ skupina | B6: NAZIV | C6: PLAN 2026. | D6: POVEĆANJE/ SMANJENJE | E6: NOVI PLAN 2026. | F6: INDEKS (4/2)
A7: 1 | B7: 2 | C7: 3 | D7: 4 | E7: 5 | F7: 6
A8: 8 | B8: Primici od financijske imovine i zaduživanja | C8: 0 | D8: 0 | E8: 0 | F8: 0
A9: 84 | B9: Primici od zaduživanja | C9: 0 | D9: 0 | E9: 0 | F9: 0
A10: 5 | B10: Izdaci za financijsku imovinu i otplate zajmova | C10: 0 | D10: 0 | E10: 0 | F10: 0
A11: 54 | B11: Izdaci za otplatu glavnice primljenih kredita i zajmova | C11: 0 | D11: 0 | E11: 0 | F11: 0
B14: B2. RAČUN FINANCIRANJA PREMA IZVORIMA FINANCIRANJA
A16: Razred/ skupina | B16: Oznaka | C16: PLAN 2026. | D16: POVEĆANJE/ SMANJENJE | E16: NOVI PLAN 2026. | F16: INDEKS (4/2)
A17: 1 | B17: 2 | C17: 3 | D17: 4 | E17: 5 | F17: 6
A18: 8 | B18: Namjenski primici | C18: 0 | D18: 0 | E18: 0 | F18: 0
A19: 81 | B19: Namjenski primici od zaduživanja | C19: 0 | D19: 0 | E19: 0 | F19: 0
B20: UKUPNO IZDACI | C20: 0 | D20: 0 | E20: 0 | F20: 0
A21: 1 | B21: Opći prihodi i primici | C21: 0 | D21: 0 | E21: 0 | F21: 0
A22: 11 | B22: Opći prihodi i primici | C22: 0 | D22: 0 | E22: 0 | F22: 0

Sheet posebni dio
A2: IZMJENE I DOPUNE FINANCIJSKOG PLANA PRVE OSNOVNE ŠKOLE ZA 2026. GODINU
A3: Oznaka | B3: PLAN 2026. | C3: POVEĆANJE/ SMANJENJE | D3: NOVI PLAN 2026. | E3: INDEKS (4/2)
A4: 1 | B4: 2 | C4: 3 | D4: 4 | E4: 5
A5: SVEUKUPNO | B5: 3122216 | C5: 314897 | D5: 3437113 | E5: 110.09
A6: Razdjel: 003 Upravni odjel za društvene djelatnosti | B6: 3122216 | C6: 314897 | D6: 3437113 | E6: 110.09
A7: Glava: 003-03 PRVA OŠ OGULIN | B7: 3122216 | C7: 314897 | D7: 3437113 | E7: 110.09
A8: Program: 121 Zakonski standardi javnih ustanova OŠ | B8: 268004 | C8: 420 | D8: 268424 | E8: 100.16
A9: A100034 Odgojnoobrazovno, administrativno i tehničko osoblje | B9: 38004 | C9: 420 | D9: 38424 | E9: 101.11
A10: Fun. kl.: 0912 Osnovno obrazovanje | B10: 38004 | C10: 420 | D10: 38424 | E10: 101.11
A11: 50 Pomoći | B11: 38004 | C11: 420 | D11: 38424 | E11: 101.11
A12: 3 Rashodi poslovanja | B12: 38004 | C12: 420 | D12: 38424 | E12: 101.11
A13: 32 Materijalni rashodi | B13: 38004 | C13: 420 | D13: 38424 | E13: 101.11
A14: A100034A Odgojnoobrazovno, administrativno i tehničko osoblje - posebni dio | B14: 130000 | C14: 0 | D14: 130000 | E14: 100
A15: Fun. kl.: 0912 Osnovno obrazovanje | B15: 130000 | C15: 0 | D15: 130000 | E15: 100
A16: 50 Pomoći | B16: 130000 | C16: 0 | D16: 130000 | E16: 100
... A130: 34 Financijski rashodi | B130: 500 | C130: 0 | D130: 500 | E130: 100
