Workbook

Sheet SAŽETAK
A1: IZVJEŠTAJ O IZVRŠENJU FINANCIJSKOG PLANA PRORAČUNSKOG KORISNIKA 003-03-PRVA OSNOVNA ŠKOLA , OGULIN ZA 2025.G.
A2: I. OPĆI DIO
A4: SAŽETAK RAČUNA PRIHODA I RASHODA I RAČUNA FINANCIRANJA
A6: SAŽETAK RAČUNA PRIHODA I RASHODA
A7: BROJČANA OZNAKA I NAZIV | F7: Ostvarenje 2024. | G7: Plan 2025. | H7: II. REBALANS 2025. | I7: Ostvarenje 2025. | J7: IND. (5/2) | K7: IND. (5/4)
A8: 1 | F8: 2 | G8: 3 | H8: 4 | I8: 5 | J8: 6 | K8: 7
A9: PRIHODI UKUPNO | F9: =SUM(F10:F11) -> 2554386.7 | G9: =SUM(G10:G11) -> 2940708 | H9: =SUM(H10:H11) -> 3185039.3 | I9: =SUM(I10:I11) -> 2898724.7 | J9: =IFERROR(I9/F9*100,0) -> 113.48026 | K9: =IFERROR(I9/H9*100,0) -> 91.01064
A10: 6 PRIHODI POSLOVANJA | F10: =' Račun prihoda i rashoda'!B8 -> 2554265.6 | G10: =' Račun prihoda i rashoda'!C8 -> 2940578 | H10: =' Račun prihoda i rashoda'!D8 -> 3184909.3 | I10: =' Račun prihoda i rashoda'!E8 -> 2898599.9 | J10: =IFERROR(I10/F10*100,0) -> 113.48076 | K10: =IFERROR(I10/H10*100,0) -> 91.010436
A11: 7 PRIHODI OD PRODAJE NEFINANCIJSKE IMOVINE | F11: =' Račun prihoda i rashoda'!B26 -> 121.16 | G11: =' Račun prihoda i rashoda'!C26 -> 130 | H11: =' Račun prihoda i rashoda'!D26 -> 130 | I11: =' Račun prihoda i rashoda'!E26 -> 124.79 | J11: =IFERROR(I11/F11*100,0) -> 102.99604 | K11: =IFERROR(I11/H11*100,0) -> 95.992308
A12: RASHODI UKUPNO | F12: =SUM(F13:F14) -> 2545252.9 | G12: =SUM(G13:G14) -> 2940708 | H12: =SUM(H13:H14) -> 3190165.3 | I12: =SUM(I13:I14) -> 3106487.3 | J12: =IFERROR(I12/F12*100,0) -> 122.05024 | K12: =IFERROR(I12/H12*100,0) -> 97.377001
A13: 3 RASHODI POSLOVANJA | F13: =' Račun prihoda i rashoda'!B31 -> 2498239.8 | G13: =' Račun prihoda i rashoda'!C31 -> 2849199 | H13: =' Račun prihoda i rashoda'!D31 -> 3078459.3 | I13: =' Račun prihoda i rashoda'!E31 -> 3009289.2 | J13: =IFERROR(I13/F13*100,0) -> 120.45638 | K13: =IFERROR(I13/H13*100,0) -> 97.753091
A14: 4 RASHODI ZA NABAVU NEFINANCIJSKE IMOVINE | F14: =' Račun prihoda i rashoda'!B78 -> 47013.06 | G14: =' Račun prihoda i rashoda'!C78 -> 91509 | H14: =' Račun prihoda i rashoda'!D78 -> 111706 | I14: =' Račun prihoda i rashoda'!E78 -> 97198.17 | J14: =IFERROR(I14/F14*100,0) -> 206.74717 | K14: =IFERROR(I14/H14*100,0) -> 87.012488
A15: RAZLIKA - VIŠAK MANJAK | F15: =F9-F12 -> 9133.87 | G15: =G9-G12 -> 0 | H15: =H9-H12 -> -5126 | I15: =I9-I12 -> -207762.66 | J15: =IFERROR(I15/F15*100,0) -> -2274.64 | K15: =IFERROR(I15/H15*100,0) -> 4053.1147
A17: SAŽETAK RAČUNA FINANCIRANJA
A18: BROJČANA OZNAKA I NAZIV | F18: Ostvarenje 2024. | G18: Plan 2025. | H18: II. REBALANS 2025. | I18: Ostvarenje 2025. | J18: IND. (5/2) | K18: IND. (5/4)
A19: 1 | F19: 2 | G19: 3 | H19: 4 | I19: 5 | J19: 6 | K19: 7
A20: 8 PRIMICI OD FINANCIJSKE IMOVINE I ZADUŽIVANJA | F20: 0 | G20: 0 | H20: 0 | I20: 0 | J20: =IFERROR(I20/F20*100,0) -> 0 | K20: =IFERROR(I20/H20*100,0) -> 0
A21: 5 IZDACI ZA FINANCIJSKU IMOVINU I OTPLATE ZAJMOVA | F21: 0 | G21: 0 | H21: 0 | I21: 0 | J21: =IFERROR(I21/F21*100,0) -> 0 | K21: =IFERROR(I21/H21*100,0) -> 0
A22: RAZLIKA PRIMITAKA I IZDATAKA | F22: =F20-F21 -> 0 | G22: =G20-G21 -> 0 | H22: =H20-H21 -> 0 | I22: =I20-I21 -> 0 | J22: =IFERROR(I22/F22*100,0) -> 0 | K22: =IFERROR(I22/H22*100,0) -> 0
A23: PRENESENI VIŠAK/MANJAK IZ PRETHODNE GODINE | F23: 9847.18 | G23: 0 | H23: 5126 | I23: 5126 | J23: =IFERROR(I23/F23*100,0) -> 52.055512 | K23: =IFERROR(I23/H23*100,0) -> 100
A24: UKUPNI PRIHODI I PRIMICI I NEUTROŠENA SREDSTVA | F24: =F9+F20+F23 -> 2564233.9 | G24: =G9+G20+G23 -> 2940708 | H24: =H9+H20+H23 -> 3190165.3 | I24: =I9+I20+I23 -> 2903850.7 | J24: =IFERROR(I24/F24*100,0) -> 113.24438 | K24: =IFERROR(I24/H24*100,0) -> 91.025084
A25: UKUPNI RASHODI I IZDACI | F25: =F12+F21 -> 2545252.9 | G25: =G12+G21 -> 2940708 | H25: =H12+H21 -> 3190165.3 | I25: =I12+I21 -> 3106487.3 | J25: =IFERROR(I25/F25*100,0) -> 122.05024 | K25: =IFERROR(I25/H25*100,0) -> 97.377001
A27: SAŽETAK RAČUNA PRIHODA I RASHODA I RAČUNA FINANCIRANJA može sadržavati i dodatne podatke.
A29: Napomena: Iznosi u stupcu "OSTVARENJE/IZVRŠENJE N-1." preračunavaju se iz kuna u eure prema fiksnom tečaju konverzije (1 EUR=7,53450 kuna) i po pravilima za preračunavanje i zaokruživanje.
A30: Napomena : "N" označava razdoblje
A31: * Opći i posebni dio izvještaja o izvršenju proračuna sadrži samo izvorni plan ako od donošenja proračuna nije bilo izmjena i dopuna niti izvršenih preraspodjela odnosno izvorni plan i tekući plan ako je od donošenja proračuna bilo naknadno izvršenih preraspodjela. Opći i posebni dio izvještaja o izvršenju proračuna sadrži rebalans ako je od donošenja proračuna bilo izmjena i dopuna, odnosno rebalans i tekući plan ako je od izmjena i dopuna proračuna bilo naknadno izvršenih preraspodjela.
A33: ** AKO Opći i Posebni dio izvještaja ne sadrži "TEKUĆI PLAN N.", "INDEKS"("OSTVARENJE/IZVRŠENJE N."/"TEKUĆI PLAN N.") iskazuje se kao "OSTVARENJE/IZVRŠENJE N."/"IZVORNI PLAN N." ODNOSNO "REBALANS N."

Sheet  Račun prihoda i rashoda
A1: IZVJEŠTAJ O IZVRŠENJU FINANCIJSKOG PLANA PRORAČUNSKOG KORISNIKA 003-03-PRVA OSNOVNA ŠKOLA , OGULIN ZA 2025.G.
A2: RAČUN PRIHODA I RASHODA
A3: IZVJEŠTAJ O PRIHODIMA I RASHODIMA PREMA EKONOMSKOJ KLASIFIKACIJI
A6: Oznaka | B6: Ostvarenje 2024. | C6: Plan 2025. | D6: II. REBALANS 2025. | E6: Ostvarenje 2025. | F6: IND. (5/2) | G6: IND. (5/4)
A7: 1 | B7: 2 | C7: 3 | D7: 4 | E7: 5 | F7: 6 | G7: 7
A8: 6 Prihodi poslovanja | B8: 2554265.6 | C8: 2940578 | D8: 3184909.3 | E8: 2898599.9 | F8: =IFERROR(E8/B8*100,0) -> 113.48076 | G8: =IFERROR(E8/D8*100,0) -> 91.010436
A9: 63 Pomoći iz inozemstva i od subjekata unutar općeg proračuna | B9: 2194140.6 | C9: 2498513 | D9: 2597334 | E9: 2352015.1 | F9: =IFERROR(E9/B9*100,0) -> 107.19527 | G9: =IFERROR(E9/D9*100,0) -> 90.554972
A10: 636 Pomoći proračunskim korisnicima iz proračuna koji im nije nadležan | B10: 2194140.6 | E10: 2352015.1
A11: 6361 Tekuće pomoći proračunskim korisnicima iz proračuna koji im nije nadležan | B11: 2167744.4 | E11: 2328385
A12: 6362 Kapitalne pomoći proračunskim korisnicima iz proračuna koji im nije nadležan | B12: 26396.22 | E12: 23630.08
A13: 65 Prihodi od upravnih i administrativnih pristojbi, pristojbi po posebnim propisima i naknada | B13: 51388.08 | C13: 64417 | D13: 106850 | E13: 90275.64 | F13: =IFERROR(E13/B13*100,0) -> 175.67428 | G13: =IFERROR(E13/D13*100,0) -> 84.488198
A14: 652 Prihodi po posebnim propisima | B14: 51388.08 | E14: 90275.64
A15: 6526 Ostali nespomenuti prihodi | B15: 51388.08 | E15: 90275.64
A16: 66 Prihodi od prodaje proizvoda i robe te pruženih usluga i prihodi od donacija te povrati po protestiranim jamstvima | B16: 2190.01 | C16: 6083 | D16: 3233 | E16: 4285.24 | F16: =IFERROR(E16/B16*100,0) -> 195.67217 | G16: =IFERROR(E16/D16*100,0) -> 132.54686
A17: 661 Prihodi od prodaje proizvoda i robe te pruženih usluga | B17: 1083 | E17: 1083
A18: 6615 Prihodi od pruženih usluga | B18: 1083 | E18: 1083
A19: 663 Donacije od pravnih i fizičkih osoba izvan općeg proračuna i povrat donacija po protestiranim jamstvima | B19: 1107.01 | E19: 3202.24
A20: 6631 Tekuće donacije | B20: 600 | E20: 3202.24
A21: 6632 Kapitalne donacije | B21: 507.01
A22: 67 Prihodi iz nadležnog proračuna i od HZZO-a temeljem ugovornih obveza | B22: 306546.86 | C22: 371565 | D22: 477492.33 | E22: 452023.93 | F22: =IFERROR(E22/B22*100,0) -> 147.45672 | G22: =IFERROR(E22/D22*100,0) -> 94.666218
A23: 671 Prihodi iz nadležnog proračuna za financiranje redovne djelatnosti proračunskih korisnika | B23: 306546.86 | E23: 452023.93
A24: 6711 Prihodi iz nadležnog proračuna za financiranje rashoda poslovanja | B24: 287069.06 | E24: 380484.45
A25: 6712 Prihodi iz nadležnog proračuna za financiranje rashoda za nabavu nefinancijske imovine | B25: 19477.8 | E25: 71539.48
A26: 7 Prihodi od prodaje nefinancijske imovine | B26: 121.16 | C26: 130 | D26: 130 | E26: 124.79 | F26: =IFERROR(E26/B26*100,0) -> 102.99604 | G26: =IFERROR(E26/D26*100,0) -> 95.992308
A27: 72 Prihodi od prodaje proizvedene dugotrajne imovine | B27: 121.16 | C27: 130 | D27: 130 | E27: 124.79 | F27: =IFERROR(E27/B27*100,0) -> 102.99604 | G27: =IFERROR(E27/D27*100,0) -> 95.992308
A28: 721 Prihodi od prodaje građevinskih objekata | B28: 121.16 | E28: 124.79
A29: 7211 Stambeni objekti | B29: 121.16 | E29: 124.79
A30: SVEUKUPNO PRIHODI | B30: 2554386.7 | C30: 2940708 | D30: 3185039.3 | E30: 2898724.7 | F30: =IFERROR(E30/B30*100,0) -> 113.48026 | G30: =IFERROR(E30/D30*100,0) -> 91.01064
A31: 3 Rashodi poslovanja | B31: 2498239.8 | C31: 2849199 | D31: 3078459.3 | E31: 3009289.2 | F31: =IFERROR(E31/B31*100,0) -> 120.45638 | G31: =IFERROR(E31/D31*100,0) -> 97.753091
A32: 31 Rashodi za zaposlene | B32: 2023046.8 | C32: 2357764 | D32: 2488160 | E32: 2454437.9 | F32: =IFERROR(E32/B32*100,0) -> 121.32383 | G32: =IFERROR(E32/D32*100,0) -> 98.644695
A33: 311 Plaće (Bruto) | B33: 1675551.5 | E33: 2042542.1
A34: 3111 Plaće za redovan rad | B34: 1675551.5 | E34: 2042542.1
A35: 312 Ostali rashodi za zaposlene | B35: 74130.85 | E35: 79227.66
A36: 3121 Ostali rashodi za zaposlene | B36: 74130.85 | E36: 79227.66
A37: 313 Doprinosi na plaće | B37: 273364.43 | E37: 332668.04
A38: 3132 Doprinosi za obvezno zdravstveno osiguranje | B38: 273364.43 | E38: 332668.04
A39: 32 Materijalni rashodi | B39: 448059.83 | C39: 460072 | D39: 556538.03 | E39: 522578.28 | F39: =IFERROR(E39/B39*100,0) -> 116.63136 | G39: =IFERROR(E39/D39*100,0) -> 93.898036
A40: 321 Naknade troškova zaposlenima | B40: 41110.99 | E40: 49491.95
A41: 3211 Službena putovanja | B41: 7406.01 | E41: 6647.58
A42: 3212 Naknade za prijevoz, za rad na terenu i odvojeni život | B42: 29266.53 | E42: 37345.05
...

Sheet Rashodi i prihodi prema izvoru
A1: IZVJEŠTAJ O IZVRŠENJU FINANCIJSKOG PLANA PRORAČUNSKOG KORISNIKA 003-03-PRVA OSNOVNA ŠKOLA , OGULIN ZA 2025.G.
A2: Oznaka | B2: Ostvarenje 2024. | C2: Plan 2025. | D2: II. REBALANS 2025. | E2: Ostvarenje 2025. | F2: IND. (5/2) | G2: IND. (5/4)
A3: 1 | B3: 2 | C3: 3 | D3: 4 | E3: 5 | F3: 6 | G3: 7
A4: UKUPNO PRIHODI | B4: 2564233.9 | C4: 2940708 | D4: 3190165.3 | E4: 2903850.7 | F4: =IFERROR(E4/B4*100,0) -> 113.24438 | G4: =IFERROR(E4/D4*100,0) -> 91.025084
A5: Izvor: 11 Opći prihodi i primici | B5: 41164.61 | C5: 79553 | D5: 152453 | E5: 135654.65 | F5: =IFERROR(E5/B5*100,0) -> 329.54193 | G5: =IFERROR(E5/D5*100,0) -> 88.981293
A6: Izvor: 31 Vlastiti prihodi | B6: 1083 | C6: 1083 | D6: 2143 | E6: 2143 | F6: =IFERROR(E6/B6*100,0) -> 197.87627 | G6: =IFERROR(E6/D6*100,0) -> 100
A7: Izvor: 432 PRIHODI ZA POSEBNE NAMJENE - korisnici | B7: 60595.24 | C7: 64417 | D7: 107600 | E7: 91025.64 | F7: =IFERROR(E7/B7*100,0) -> 150.21913 | G7: =IFERROR(E7/D7*100,0) -> 84.59632
A8: Izvor: 434 PRIHOD ZA POSEBNE NAMJENE - korisnici | B8: 0 | C8: 17809 | D8: 0 | E8: 0 | F8: =IFERROR(E8/B8*100,0) -> 0 | G8: =IFERROR(E8/D8*100,0) -> 0
A9: Izvor: 50 Pomoći | B9: 244750.63 | C9: 234457 | D9: 278809.33 | E9: 278104.58 | F9: =IFERROR(E9/B9*100,0) -> 113.62773 | G9: =IFERROR(E9/D9*100,0) -> 99.747229
A10: Izvor: 50115 Pomoći iz državnog proračuna kroz opće prihode i primitke - plaće OŠ i SŠ | B10: 2006733.6 | C10: 2230632 | D10: 2360600 | E10: 2137170.5 | F10: =IFERROR(E10/B10*100,0) -> 106.49996 | G10: =IFERROR(E10/D10*100,0) -> 90.535057
A11: Izvor: 503 POMOĆI IZ NENADLEŽNIH PRORAČUNA - KORISNICI | B11: 188047.01 | C11: 250072 | D11: 239700 | E11: 217810.52 | F11: =IFERROR(E11/B11*100,0) -> 115.8277 | G11: =IFERROR(E11/D11*100,0) -> 90.867968
A12: Izvor: 56 Fondovi EU-a | B12: 20631.62 | C12: 57555 | D12: 46230 | E12: 38264.7 | F12: =IFERROR(E12/B12*100,0) -> 185.46629 | G12: =IFERROR(E12/D12*100,0) -> 82.770279
A13: Izvor: 611 Donacije | B13: 1107.01 | C13: 5000 | D13: 2500 | E13: 3552.24 | F13: =IFERROR(E13/B13*100,0) -> 320.88599 | G13: =IFERROR(E13/D13*100,0) -> 142.0896
A14: Izvor: 711 Prihodi od nefinancijske imovine i nadoknade štete s osnova osiguranja | B14: 121.16 | C14: 130 | D14: 130 | E14: 124.79 | F14: =IFERROR(E14/B14*100,0) -> 102.99604 | G14: =IFERROR(E14/D14*100,0) -> 95.992308
A15: UKUPNO RASHODI | B15: =SUM(B16:B25) -> 2545252.9 | C15: =SUM(C16:C25) -> 2940708 | D15: =SUM(D16:D25) -> 3190165.3 | E15: =SUM(E16:E25) -> 3106487.3 | F15: =IFERROR(E15/B15*100,0) -> 122.05024 | G15: =IFERROR(E15/D15*100,0) -> 97.377001
A16: 11 Opći prihodi i primici | B16: 41164.61 | C16: 79553 | D16: 152453 | E16: 143421.31 | F16: =IFERROR(E16/B16*100,0) -> 348.40925 | G16: =IFERROR(E16/D16*100,0) -> 94.075754
A17: 31 Vlastiti prihodi | B17: 23.62 | C17: 1083 | D17: 2143 | E17: 913.79 | F17: =IFERROR(E17/B17*100,0) -> 3868.713 | G17: =IFERROR(E17/D17*100,0) -> 42.640691
A18: 432 PRIHODI ZA POSEBNE NAMJENE - korisnici | B18: 51339.99 | C18: 64417 | D18: 107600 | E18: 94922.67 | F18: =IFERROR(E18/B18*100,0) -> 184.89032 | G18: =IFERROR(E18/D18*100,0) -> 88.218095
A19: 434 PRIHOD ZA POSEBNE NAMJENE - korisnici | B19: 0 | C19: 17809 | D19: 0 | E19: 0 | F19: =IFERROR(E19/B19*100,0) -> 0 | G19: =IFERROR(E19/D19*100,0) -> 0
A20: 50 Pomoći | B20: 244750.63 | C20: 234457 | D20: 278809.33 | E20: 278695.77 | F20: =IFERROR(E20/B20*100,0) -> 113.86928 | G20: =IFERROR(E20/D20*100,0) -> 99.95927
A21: 50115 Pomoći iz državnog proračuna kroz opće prihode i primitke - plaće OŠ i SŠ | B21: 1980358.8 | C21: 2230632 | D21: 2360600 | E21: 2322533.2 | F21: =IFERROR(E21/B21*100,0) -> 117.2784 | G21: =IFERROR(E21/D21*100,0) -> 98.387408
A22: 503 POMOĆI IZ NENADLEŽNIH PRORAČUNA - KORISNICI | B22: 207364.64 | C22: 250072 | D22: 239700 | E22: 221165.72 | F22: =IFERROR(E22/B22*100,0) -> 106.65546 | G22: =IFERROR(E22/D22*100,0) -> 92.267718
A23: 56 Fondovi EU-a | B23: 19970 | C23: 57555 | D23: 46230 | E23: 42769.42 | F23: =IFERROR(E23/B23*100,0) -> 214.16835 | G23: =IFERROR(E23/D23*100,0) -> 92.514428
A24: 611 Donacije | B24: 157.01 | C24: 5000 | D24: 2500 | E24: 2027.24 | F24: =IFERROR(E24/B24*100,0) -> 1291.1534 | G24: =IFERROR(E24/D24*100,0) -> 81.0896
A25: 711 Prihodi od nefinancijske imovine i nadoknade štete s osnova osiguranja | B25: 123.6 | C25: 130 | D25: 130 | E25: 38.25 | F25: =IFERROR(E25/B25*100,0) -> 30.946602 | G25: =IFERROR(E25/D25*100,0) -> 29.423077

Sheet Rashodi prema funkcijskoj k 
A1: IZVJEŠTAJ O IZVRŠENJU FINANCIJSKOG PLANA PRORAČUNSKOG KORISNIKA 003-03-PRVA OSNOVNA ŠKOLA , OGULIN ZA 2025.G.
A2: Oznaka | B2: Ostvarenje 2024. | C2: Plan 2025. | D2: II. REBALANS 2025. | E2: Ostvarenje 2025. | F2: IND. (5/2) | G2: IND. (5/4)
A3: 1 | B3: 2 | C3: 3 | D3: 4 | E3: 5 | F3: 6 | G3: 7
A4: SVEUKUPNO | B4: 2545252.9 | C4: 2940708 | D4: 3190165.3 | E4: 3106487.3 | F4: =IFERROR(E4/B4*100,0) -> 122.05024 | G4: =IFERROR(E4/D4*100,0) -> 97.377001
A5: 09 OBRAZOVANJE | B5: 2545252.9 | C5: 2940708 | D5: 3190165.3 | E5: 3106487.3 | F5: =IFERROR(E5/B5*100,0) -> 122.05024 | G5: =IFERROR(E5/D5*100,0) -> 97.377001
A6: 091 Predškolsko i osnovno obrazovanje | B6: 2403867 | C6: 2673469 | D6: 2850269.3 | E6: 2794266.5 | F6: =IFERROR(E6/B6*100,0) -> 116.24048 | G6: =IFERROR(E6/D6*100,0) -> 98.035174
A7: 096 Dodatne usluge u obrazovanju | B7: 141385.85 | C7: 267239 | D7: 339896 | E7: 312220.82 | F7: =IFERROR(E7/B7*100,0) -> 220.8289 | G7: =IFERROR(E7/D7*100,0) -> 91.857751

Sheet Račun financiranja 
A2: RAČUN FINANCIRANJA
A3: IZVJEŠTAJ RAČUNA FINANCIRANJA PREMA EKONOMSKOJ KLASIFIKACIJI za 003-03 PRVA OSNOVNA ŠKOLA, OGULIN
A5: BROJČANA OZNAKA I NAZIV | F5: Ostvarenje 2024. | G5: Plan 2025. | H5: II. REBALANS 2025. | I5: Ostvarenje 2025. | J5: IND. (5/2) | K5: IND. (5/4)
A6: 1 | F6: 2 | G6: 3 | H6: 4 | I6: 5 | J6: 6 | K6: 7
A7: 8 | E7: Primici od financijske imovine i zaduživanja | F7: 0 | G7: 0 | H7: 0 | I7: 0 | J7: 0 | K7: 0
B8: 84 | E8: Primici od zaduživanja | F8: 0 | G8: 0 | H8: 0 | I8: 0 | J8: 0 | K8: 0
C9: 841 | E9: Primljeni krediti i zajmovi od međunarodnih organizacija, institucija i tijela EU te inozemnih vlada | F9: 0 | G9: 0 | H9: 0 | I9: 0 | J9: 0 | K9: 0
D10: 8413 | E10: Primljeni zajmovi od međunarodnih organizacija | F10: 0 | G10: 0 | H10: 0 | I10: 0 | J10: 0 | K10: 0
D11: …. | F11: 0 | G11: 0 | H11: 0 | I11: 0 | J11: 0 | K11: 0
A12: 5 | E12: Izdaci za financijsku imovinu i otplate zajmova | F12: 0 | G12: 0 | H12: 0 | I12: 0 | J12: 0 | K12: 0
B13: 54 | E13: Izdaci za otplatu glavnice primljenih kredita i zajmova | F13: 0 | G13: 0 | H13: 0 | I13: 0 | J13: 0 | K13: 0
C14: 541 | E14: Otplata glavnice primljenih kredita i zajmova od međunarodnih organizacija, institucija i tijela EU te inozemnih vlada | F14: 0 | G14: 0 | H14: 0 | I14: 0 | J14: 0 | K14: 0
D15: 5413 | E15: Otplata glavnice primljenih zajmova od međunarodnih organizacija | F15: 0 | G15: 0 | H15: 0 | I15: 0 | J15: 0 | K15: 0
A16: … | E16: …. | F16: 0 | G16: 0 | H16: 0 | I16: 0 | J16: 0 | K16: 0

Sheet Račun fin prema izvorima f
A1: IZVJEŠTAJ O IZVRŠENJU FINANCIJSKOG PLANA PRORAČUNSKOG KORISNIKA 003-03-PRVA OSNOVNA ŠKOLA , OGULIN ZA 2025.G.
A2: IZVJEŠTAJ RAČUNA FINANCIRANJA PREMA IZVORIMA FINANCIRANJA
A4: BROJČANA OZNAKA I NAZIV | B4: Ostvarenje 2024. | C4: Plan 2025. | D4: II. REBALANS 2025. | E4: Ostvarenje 2025. | F4: IND. (5/2) | G4: IND. (5/4)
A5: 1 | B5: 2 | C5: 3 | D5: 4 | E5: 5 | F5: 6 | G5: 7
A6: UKUPNO PRIMICI | B6: 0 | C6: 0 | D6: 0 | E6: 0 | F6: 0 | G6: 0
A7: 3 Vlastiti prihodi | B7: 0 | C7: 0 | D7: 0 | E7: 0 | F7: 0 | G7: 0
A8: 31 Vlastiti prihodi | B8: 0 | C8: 0 | D8: 0 | E8: 0 | F8: 0 | G8: 0
A9: UKUPNO IZDACI | B9: 0 | C9: 0 | D9: 0 | E9: 0 | F9: 0 | G9: 0
A10: 3 Vlastiti prihodi | B10: 0 | C10: 0 | D10: 0 | E10: 0 | F10: 0 | G10: 0
A11: 31 Vlastiti prihodi | B11: 0 | C11: 0 | D11: 0 | E11: 0 | F11: 0 | G11: 0

Sheet programska
A1: IZVJEŠTAJ O IZVRŠENJU FINANCIJSKOG PLANA PRORAČUNSKOG KORISNIKA 003-03-PRVA OSNOVNA ŠKOLA , OGULIN ZA 2025.G.
A2: IZVJEŠTAJ PO PROGRAMSKOJ KLASIFIKACIJI
A3: Oznaka | B3: Ostvarenje 2024. | C3: Plan 2025. | D3: II. REBALANS 2025. | E3: Ostvarenje 2025. | F3: IND. (5/2) | G3: IND. (5/4)
A4: 1 | B4: 2 | C4: 3 | D4: 4 | E4: 5 | F4: 6 | G4: 7
A5: SVEUKUPNO | B5: 2545252.9 | C5: 2940708 | D5: 3190165.3 | E5: 3106487.3 | F5: =IFERROR(E5/B5*100,0) -> 122.05024 | G5: =IFERROR(E5/D5*100,0) -> 97.377001
A6: RAZDJEL: 003 - Upravni odjel za školstvo | B6: 2545252.9 | C6: 0 | D6: 0 | E6: 0 | F6: =IFERROR(E6/B6*100,0) -> 0 | G6: =IFERROR(E6/D6*100,0) -> 0
A7: GLAVA: 003 - 012 PRVA OŠ OGULIN | B7: 2545252.9 | C7: 0 | D7: 0 | E7: 0 | F7: =IFERROR(E7/B7*100,0) -> 0 | G7: =IFERROR(E7/D7*100,0) -> 0
A8: 121 Zakonski standardi javnih ustanova OŠ | B8: 242570.75 | C8: 0 | D8: 0 | E8: 0 | F8: =IFERROR(E8/B8*100,0) -> 0 | G8: =IFERROR(E8/D8*100,0) -> 0
A9: A100034 Odgojnoobrazovno, administrativno i tehničko osoblje | B9: 39072 | C9: 0 | D9: 0 | E9: 0 | F9: =IFERROR(E9/B9*100,0) -> 0 | G9: =IFERROR(E9/D9*100,0) -> 0
A10: Funk. kl.: 0912 Osnovno obrazovanje | B10: 39072 | C10: 0 | D10: 0 | E10: 0 | F10: =IFERROR(E10/B10*100,0) -> 0 | G10: =IFERROR(E10/D10*100,0) -> 0
A11: Izvor: 50 Pomoći | B11: 39072 | C11: 0 | D11: 0 | E11: 0 | F11: =IFERROR(E11/B11*100,0) -> 0 | G11: =IFERROR(E11/D11*100,0) -> 0
A12: 3 Rashodi poslovanja | B12: 39072 | C12: 0 | D12: 0 | E12: 0 | F12: =IFERROR(E12/B12*100,0) -> 0 | G12: =IFERROR(E12/D12*100,0) -> 0
A13: 32 Materijalni rashodi | B13: 38825.8 | C13: 0 | D13: 0 | E13: 0 | F13: =IFERROR(E13/B13*100,0) -> 0 | G13: =IFERROR(E13/D13*100,0) -> 0
A14: 321 Naknade troškova zaposlenima | B14: 3861.71
A15: 3211 Službena putovanja | B15: 2644.69
A16: 3213 Stručno usavršavanje zaposlenika | B16: 191
A17: 3214 Ostale naknade troškova zaposlenima | B17: 1026.02
A18: 322 Rashodi za materijal i energiju | B18: 14664.09
A19: 3221 Uredski materijal i ostali materijalni rashodi | B19: 9268.34
A20: 3223 Energija | B20: 214.46
A21: 3224 Materijal i dijelovi za tekuće i investicijsko održavanje | B21: 3158.92
A22: 3225 Sitni inventar i auto gume | B22: 1199.51
A23: 3227 Službena, radna i zaštitna odjeća i obuća | B23: 822.86
A24: 323 Rashodi za usluge | B24: 18000
A25: 3231 Usluge telefona, pošte i prijevoza | B25: 4451.48
... A38: 3299 Ostali nespomenuti rashodi poslovanja | B38: 583
A39: 34 Financijski rashodi | B39: 246.2 | C39: 0 | D39: 0 | E39: 0 | F39: =IFERROR(E39/B39*100,0) -> 0 | G39: =IFERROR(E39/D39*100,0) -> 0
A40: 343 Ostali financijski rashodi | B40: 246.2
A41: 3431 Bankarske usluge i usluge platnog prometa | B41: 246.2
A42: A100034A Odgojnoobrazovno, administrativno i tehničko osoblje - posebni dio | B42: 115000 | C42: 0 | D42: 0 | E42: 0 | F42: =IFERROR(E42/B42*100,0) -> 0 | G42: =IFERROR(E42/D42*100,0) -> 0
A43: Funk. kl.: 0912 Osnovno obrazovanje | B43: 115000 | C43: 0 | D43: 0 | E43: 0 | F43: =IFERROR(E43/B43*100,0) -> 0 | G43: =IFERROR(E43/D43*100,0) -> 0
A44: Izvor: 50 Pomoći | B44: 115000 | C44: 0 | D44: 0 | E44: 0 | F44: =IFERROR(E44/B44*100,0) -> 0 | G44: =IFERROR(E44/D44*100,0) -> 0
A45: 3 Rashodi poslovanja | B45: 115000 | C45: 0 | D45: 0 | E45: 0 | F45: =IFERROR(E45/B45*100,0) -> 0 | G45: =IFERROR(E45/D45*100,0) -> 0
A46: 32 Materijalni rashodi | B46: 115000 | C46: 0 | D46: 0 | E46: 0 | F46: =IFERROR(E46/B46*100,0) -> 0 | G46: =IFERROR(E46/D46*100,0) -> 0
A47: 322 Rashodi za materijal i energiju | B47: 52000
A48: 3221 Uredski materijal i ostali materijalni rashodi | B48: 7054.21
A49: 3223 Energija | B49: 42717.03
A50: 3224 Materijal i dijelovi za tekuće i investicijsko održavanje | B50: 2128.77
A51: 3225 Sitni inventar i auto gume | B51: 99.99
A52: 323 Rashodi za usluge | B52: 63000
...

Sheet List2

Sheet List1
