Workbook

Sheet SAŽETAK
A1: IZVJEŠTAJ O IZVRŠENJU FINANCIJSKOG PLANA PRORAČUNSKOG KORISNIKA 003-03-PRVA OSNOVNA ŠKOLA , OGULIN ZA 2025.G.
A2: I. OPĆI DIO
A4: SAŽETAK RAČUNA PRIHODA I RASHODA I RAČUNA FINANCIRANJA
A6: SAŽETAK RAČUNA PRIHODA I RASHODA
A7: BROJČANA OZNAKA I NAZIV | F7: Ostvarenje 2024. | G7: Plan 2025. | H7: II. REBALANS 2025. | I7: Ostvarenje 2025. | J7: IND. (5/2) | K7: IND. (5/4)
A8: 1 | F8: 2 | G8: 3 | H8: 4 | I8: 5 | J8: 6 | K8: 7
A9: PRIHODI UKUPNO | F9: =SUM(F10:F11) -> 2554386.7 | G9: =SUM(G10:G11) -> 2940708 | H9: =SUM(H10:H11) -> 3185039.3 | I9: =SUM(I10:I11) -> 2898724.7 | J9: =IFERROR(I9/F9*100,0) -> 113.48026 | K9: =IFERROR(I9/H9*100,0) -> 91.01064
A10: 6 PRIHODI POSLOVANJA | F10: =' Račun prihoda i rashoda'!B8 -> 2554265.6 | G10: =' Račun prihoda i rashoda'!C8 -> 2940578 | H10: =' Račun prihoda i rashoda'!D8 -> 3184909.3 | I10: =' Račun prihoda i rashoda'!E8 -> 2898599.9 | J10: =IFERROR(I10/F10*100,0) -> 113.48076 | K10: =IFERROR(I10/H10*100,0) -> 91.010436
A11: 7 PRIHODI OD PRODAJE NEFINANCIJSKE IMOVINE | F11: =' Račun prihoda i rashoda'!B26 -> 121.16 | G11: =' Račun prihoda i rashoda'!C26 -> 130 | H11: =' Račun prihoda i rashoda'!D26 -> 130 | I11: =' Račun prihoda i rashoda'!E26 -> 124.79 | J11: =IFERROR(I11/F11*100,0) -> 102.99604 | K11: =IFERROR(I11/H11*100,0) -> 95.992308
A12: RASHODI UKUPNO | F12: =SUM(F13:F14) -> 2545252.9 | G12: =SUM(G13:G14) -> 2940708 | H12: =SUM(H13:H14) -> 3190165.3 | I12: =SUM(I13:I14) -> 3106487.3 | J12: =IFERROR(I12/F12*100,0) -> 122.05024 | K12: =IFERROR(I12/H12*100,0) -> 97.377001
A13: 3 RASHODI POSLOVANJA | F13: =' Račun prihoda i rashoda'!B31 -> 2498239.8 | G13: =' Račun prihoda i rashoda'!C31 -> 2849199 | H13: =' Račun prihoda i rashoda'!D31 -> 3078459.3 | I13: =' Račun prihoda i rashoda'!E31 -> 3009289.2 | J13: =IFERROR(I13/F13*100,0) -> 120.45638 | K13: =IFERROR(I13/H13*100,0) -> 97.753091
A14: 4 RASHODI ZA NABAVU NEFINANCIJSKE IMOVINE | F14: =' Račun prihoda i rashoda'!B78 -> 47013.06 | G14: =' Račun prihoda i rashoda'!C78 -> 91509 | H14: =' Račun prihoda i rashoda'!D78 -> 111706 | I14: =' Račun prihoda i rashoda'!E78 -> 97198.17 | J14: =IFERROR(I14/F14*100,0) -> 206.74717 | K14: =IFERROR(I14/H14*100,0) -> 87.012488
A15: RAZLIKA - VIŠAK MANJAK | F15: =F9-F12 -> 9133.87 | G15: =G9-G12 -> 0 | H15: =H9-H12 -> -5126 | I15: =I9-I12 -> -207762.66 | J15: =IFERROR(I15/F15*100,0) -> -2274.64 | K15: =IFERROR(I15/H15*100,0) -> 4053.1147
A17: SAŽETAK RAČUNA FINANCIRANJA
A18: BROJČANA OZNAKA I NAZIV | F18: Ostvarenje 2024. | G18: Plan 2025. | H18: II. REBALANS 2025. | I18: Ostvarenje 2025. | J18: IND. (5/2) | K18: IND. (5/4)
A19: 1 | F19: 2 | G19: 3 | H19: 4 | I19: 5 | J19: 6 | K19: 7
A20: 8 PRIMICI OD FINANCIJSKE IMOVINE I ZADUŽIVANJA | F20: 0 | G20: 0 | H20: 0 | I20: 0 | J20: =IFERROR(I20/F20*100,0) -> 0 | K20: =IFERROR(I20/H20*100,0) -> 0
A21: 5 IZDACI ZA FINANCIJSKU IMOVINU I OTPLATE ZAJMOVA | F21: 0 | G21: 0 | H21: 0 | I21: 0 | J21: =IFERROR(I21/F21*100,0) -> 0 | K21: =IFERROR(I21/H21*100,0) -> 0
A22: RAZLIKA PRIMITAKA I IZDATAKA | F22: =F20-F21 -> 0 | G22: =G20-G21 -> 0 | H22: =H20-H21 -> 0 | I22: =I20-I21 -> 0 | J22: =IFERROR(I22/F22*100,0) -> 0 | K22: =IFERROR(I22/H22*100,0) -> 0
A23: PRENESENI VIŠAK/MANJAK IZ PRETHODNE GODINE | F23: 9847.18 | G23: 0 | H23: 5126 | I23: 5126 | J23: =IFERROR(I23/F23*100,0) -> 52.055512 | K23: =IFERROR(I23/H23*100,0) -> 100
A24: UKUPNI PRIHODI I PRIMICI I NEUTROŠENA SREDSTVA | F24: =F9+F20+F23 -> 2564233.9 | G24: =G9+G20+G23 -> 2940708 | H24: =H9+H20+H23 -> 3190165.3 | I24: =I9+I20+I23 -> 2903850.7 | J24: =IFERROR(I24/F24*100,0) -> 113.24438 | K24: =IFERROR(I24/H24*100,0) -> 91.025084
A25: UKUPNI RASHODI I IZDACI | F25: =F12+F21 -> 2545252.9 | G25: =G12+G21 -> 2940708 | H25: =H12+H21 -> 3190165.3 | I25: =I12+I21 -> 3106487.3 | J25: =IFERROR(I25/F25*100,0) -> 122.05024 | K25: =IFERROR(I25/H25*100,0) -> 97.377001
A27: SAŽETAK RAČUNA PRIHODA I RASHODA I RAČUNA FINANCIRANJA može sadržavati i dodatne podatke.
A29: Napomena: Iznosi u stupcu "OSTVARENJE/IZVRŠENJE N-1." preračunavaju se iz kuna u eure prema fiksnom tečaju konverzije (1 EUR=7,53450 kuna) i po pravilima za preračunavanje i zaokruživanje.
A30: Napomena : "N" označava razdoblje
A31: * Opći i posebni dio izvještaja o izvršenju proračuna sadrži samo izvorni plan ako od donošenja proračuna nije bilo izmjena i dopuna niti izvršenih preraspodjela odnosno izvorni plan i tekući plan ako je od donošenja proračuna bilo naknadno izvršenih preraspodjela. Opći i posebni dio izvještaja o izvršenju proračuna sadrži rebalans ako je od donošenja proračuna bilo izmjena i dopuna, odnosno rebalans i tekući plan ako je od izmjena i dopuna proračuna bilo naknadno izvršenih preraspodjela.
A33: ** AKO Opći i Posebni dio izvještaja ne sadrži "TEKUĆI PLAN N.", "INDEKS"("OSTVARENJE/IZVRŠENJE N."/"TEKUĆI PLAN N.") iskazuje se kao "OSTVARENJE/IZVRŠENJE N."/"IZVORNI PLAN N." ODNOSNO "REBALANS N."

Sheet  Račun prihoda i rashoda
A1: IZVJEŠTAJ O IZVRŠENJU FINANCIJSKOG PLANA PRORAČUNSKOG KORISNIKA 003-03-PRVA OSNOVNA ŠKOLA , OGULIN ZA 2025.G.
A2: RAČUN PRIHODA I RASHODA
A3: IZVJEŠTAJ O PRIHODIMA I RASHODIMA PREMA EKONOMSKOJ KLASIFIKACIJI
A6: Oznaka | B6: Ostvarenje 2024. | C6: Plan 2025. | D6: II. REBALANS 2025. | E6: Ostvarenje 2025. | F6: IND. (5/2) | G6: IND. (5/4)
A7: 1 | B7: 2 | C7: 3 | D7: 4 | E7: 5 | F7: 6 | G7: 7
A8: 6 Prihodi poslovanja | B8: 2554265.6 | C8: 2940578 | D8: 3184909.3 | E8: 2898599.9 | F8: =IFERROR(E8/B8*100,0) -> 113.48076 | G8: =IFERROR(E8/D8*100,0) -> 91.010436
A9: 63 Pomoći iz inozemstva i od subjekata unutar općeg proračuna | B9: 2194140.6 | C9: 2498513 | D9: 2597334 | E9: 2352015.1 | F9: =IFERROR(E9/B9*100,0) -> 107.19527 | G9: =IFERROR(E9/D9*100,0) -> 90.554972
A10: 636 Pomoći proračunskim korisnicima iz proračuna koji im nije nadležan | B10: 2194140.6 | E10: 2352015.1
A11: 6361 Tekuće pomoći proračunskim korisnicima iz proračuna koji im nije nadležan | B11: 2167744.4 | E11: 2328385
A12: 6362 Kapitalne pomoći proračunskim korisnicima iz proračuna koji im nije nadležan | B12: 26396.22 | E12: 23630.08
A13: 65 Prihodi od upravnih i administrativnih pristojbi, pristojbi po posebnim propisima i naknada | B13: 51388.08 | C13: 64417 | D13: 106850 | E13: 90275.64 | F13: =IFERROR(E13/B13*100,0) -> 175.67428 | G13: =IFERROR(E13/D13*100,0) -> 84.488198
A14: 652 Prihodi po posebnim propisima | B14: 51388.08 | E14: 90275.64
A15: 6526 Ostali nespomenuti prihodi | B15: 51388.08 | E15: 90275.64
A16: 66 Prihodi od prodaje proizvoda i robe te pruženih usluga i prihodi od donacija te povrati po protestiranim jamstvima | B16: 2190.01 | C16: 6083 | D16: 3233 | E16: 4285.24 | F16: =IFERROR(E16/B16*100,0) -> 195.67217 | G16: =IFERROR(E16/D16*100,0) -> 132.54686
A17: 661 Prihodi od prodaje proizvoda i robe te pruženih usluga | B17: 1083 | E17: 1083
A18: 6615 Prihodi od pruženih usluga | B18: 1083 | E18: 1083
A19: 663 Donacije od pravnih i fizičkih osoba izvan općeg proračuna i povrat donacija po protestiranim jamstvima | B19: 1107.01 | E19: 3202.24
A20: 6631 Tekuće donacije | B20: 600 | E20: 3202.24
A21: 6632 Kapitalne donacije | B21: 507.01
A22: 67 Prihodi iz nadležnog proračuna i od HZZO-a temeljem ugovornih obveza | B22: 306546.86 | C22: 371565 | D22: 477492.33 | E22: 452023.93 | F22: =IFERROR(E22/B22*100,0) -> 147.45672 | G22: =IFERROR(E22/D22*100,0) -> 94.666218
A23: 671 Prihodi iz nadležnog proračuna za financiranje redovne djelatnosti proračunskih korisnika | B23: 306546.86 | E23: 452023.93
A24: 6711 Prihodi iz nadležnog proračuna za financiranje rashoda poslovanja | B24: 287069.06 | E24: 380484.45
A25: 6712 Prihodi iz nadležnog proračuna za financiranje rashoda za nabavu nefinancijske imovine | B25: 19477.8 | E25: 71539.48
A26: 7 Prihodi od prodaje nefinancijske imovine | B26: 121.16 | C26: 130 | D26: 130 | E26: 124.79 | F26: =IFERROR(E26/B26*100,0) -> 102.99604 | G26: =IFERROR(E26/D26*100,0) -> 95.992308
A27: 72 Prihodi od prodaje proizvedene dugotrajne imovine | B27: 121.16 | C27: 130 | D27: 130 | E27: 124.79 | F27: =IFERROR(E27/B27*100,0) -> 102.99604 | G27: =IFERROR(E27/D27*100,0) -> 95.992308
A28: 721 Prihodi od prodaje građevinskih objekata | B28: 121.16 | E28: 124.79
A29: 7211 Stambeni objekti | B29: 121.16 | E29: 124.79
A30: SVEUKUPNO PRIHODI | B30: 2554386.7 | C30: 2940708 | D30: 3185039.3 | E30: 2898724.7 | F30: =IFERROR(E30/B30*100,0) -> 113.48026 | G30: =IFERROR(E30/D30*100,0) -> 91.01064
A31: 3 Rashodi poslovanja | B31: 2498239.8 | C31: 2849199 | D31: 3078459.3 | E31: 3009289.2 | F31: =IFERROR(E31/B31*100,0) -> 120.45638 | G31: =IFERROR(E31/D31*100,0) -> 97.753091
A32: 31 Rashodi za zaposlene | B32: 2023046.8 | C32: 2357764 | D32: 2488160 | E32: 2454437.9 | F32: =IFERROR(E32/B32*100,0) -> 121.32383 | G32: =IFERROR(E32/D32*100,0) -> 98.644695
A33: 311 Plaće (Bruto) | B33: 1675551.5 | E33: 2042542.1
A34: 3111 Plaće za redovan rad | B34: 1675551.5 | E34: 2042542.1
A35: 312 Ostali rashodi za zaposlene | B35: 74130.85 | E35: 79227.66
A36: 3121 Ostali rashodi za zaposlene | B36: 74130.85 | E36: 79227.66
A37: 313 Doprinosi na plaće | B37: 273364.43 | E37: 332668.04
A38: 3132 Doprinosi za obvezno zdravstveno osiguranje | B38: 273364.43 | E38: 332668.04
A39: 32 Materijalni rashodi | B39: 448059.83 | C39: 460072 | D39: 556538.03 | E39: 522578.28 | F39: =IFERROR(E39/B39*100,0) -> 116.63136 | G39: =IFERROR(E39/D39*100,0) -> 93.898036
A40: 321 Naknade troškova zaposlenima | B40: 41110.99 | E40: 49491.95
A41: 3211 Službena putovanja | B41: 7406.01 | E41: 6647.58
A42: 3212 Naknade za prijevoz, za rad na terenu i odvojeni život | B42: 29266.53 | E42: 37345.05
A43: 3213 Stručno usavršavanje zaposlenika | B43: 531 | E43: 1060.6
A44: 3214 Ostale naknade troškova zaposlenima | B44: 3907.45 | E44: 4438.72
A45: 322 Rashodi za materijal i energiju | B45: 204011.07 | E45: 229067.34
A46: 3221 Uredski materijal i ostali materijalni rashodi | B46: 23932.35 | E46: 35381.16
A47: 3222 Materijal i sirovine | B47: 128713.91 | E47: 127251.9
A48: 3223 Energija | B48: 42997.75 | E48: 55677.91
A49: 3224 Materijal i dijelovi za tekuće i investicijsko održavanje | B49: 5537.72 | E49: 5015.47
A50: 3225 Sitni inventar i auto gume | B50: 2006.48 | E50: 5295.26
A51: 3227 Službena, radna i zaštitna odjeća i obuća | B51: 822.86 | E51: 445.64
... A54: 3232 Usluge tekućeg i investicijskog održavanja | B54: 8562.97 | E54: 18018.26
A55: 3233 Usluge promidžbe i informiranja | B55: 877.06
A56: 3234 Komunalne usluge | B56: 14337.81 | E56: 18224.16
A57: 3235 Zakupnine i najamnine | B57: 31234.73 | E57: 26041.8
A58: 3236 Zdravstvene i veterinarske usluge | B58: 5236.66 | E58: 4865.86
A59: 3237 Intelektualne i osobne usluge | B59: 5653.84 | E59: 11270.61
A60: 3238 Računalne usluge | B60: 2318.3 | E60: 4385.36
A61: 3239 Ostale usluge | B61: 8059.94 | E61: 4300.3
A62: 329 Ostali nespomenuti rashodi poslovanja | B62: 7466.08 | E62: 42469.52
A63: 3292 Premije osiguranja | B63: 1908.83 | E63: 1168.23
A64: 3293 Reprezentacija | B64: 223 | E64: 176
A65: 3294 Članarine | B65: 188.09 | E65: 220
A66: 3295 Pristojbe i naknade | B66: 2219.57 | E66: 2607.77
A67: 3299 Ostali nespomenuti rashodi poslovanja | B67: 2926.59 | E67: 38297.52
A68: 34 Financijski rashodi | B68: 512.29 | C68: 1663 | D68: 561.3 | E68: 306.93 | F68: =IFERROR(E68/B68*100,0) -> 59.91333 | G68: =IFERROR(E68/D68*100,0) -> 54.681988
A69: 343 Ostali financijski rashodi | B69: 512.29 | E69: 306.93
A70: 3431 Bankarske usluge i usluge platnog prometa | B70: 512.29 | E70: 283.93
A71: 3433 Zatezne kamate | E71: 23
A72: 37 Naknade građanima i kućanstvima na temelju osiguranja i druge naknade | B72: 25579.11 | C72: 26000 | D72: 31000 | E72: 31000 | F72: =IFERROR(E72/B72*100,0) -> 121.19265 | G72: =IFERROR(E72/D72*100,0) -> 100
A73: 372 Ostale naknade građanima i kućanstvima iz proračuna | B73: 25579.11 | E73: 31000
A74: 3722 Naknade građanima i kućanstvima u naravi | B74: 25579.11 | E74: 31000
A75: 38 Ostali rashodi | B75: 1041.81 | C75: 3700 | D75: 2200 | E75: 966.1 | F75: =IFERROR(E75/B75*100,0) -> 92.73284 | G75: =IFERROR(E75/D75*100,0) -> 43.913636
A76: 381 Tekuće donacije | B76: 1041.81 | E76: 966.1
A77: 3812 Tekuće donacije u naravi | B77: 1041.81 | E77: 966.1
A78: 4 Rashodi za nabavu nefinancijske imovine | B78: 47013.06 | C78: 91509 | D78: 111706 | E78: 97198.17 | F78: =IFERROR(E78/B78*100,0) -> 206.74717 | G78: =IFERROR(E78/D78*100,0) -> 87.012488
A79: 42 Rashodi za nabavu proizvedene dugotrajne imovine | B79: 28498.26 | C79: 51509 | D79: 76706 | E79: 65346.69 | F79: =IFERROR(E79/B79*100,0) -> 229.30063 | G79: =IFERROR(E79/D79*100,0) -> 85.191106
A80: 421 Građevinski objekti | E80: 38725
A81: 4212 Poslovni objekti | E81: 38725
A82: 422 Postrojenja i oprema | B82: 389.99 | E82: 4093.04
A83: 4221 Uredska oprema i namještaj | E83: 3350.02
A84: 4222 Komunikacijska oprema | B84: 389.99
A85: 4227 Uređaji, strojevi i oprema za ostale namjene | E85: 743.02
A86: 424 Knjige, umjetnička djela i ostale izložbene vrijednosti | B86: 27570.77 | E86: 22364.65
A87: 4241 Knjige | B87: 27570.77 | E87: 22364.65
A88: 426 Nematerijalna proizvedena imovina | B88: 537.5 | E88: 164
A89: 4262 Ulaganja u računalne programe | B89: 537.5 | E89: 164
A90: 45 Rashodi za dodatna ulaganja na nefinancijskoj imovini | B90: 18514.8 | C90: 40000 | D90: 35000 | E90: 31851.48 | F90: =IFERROR(E90/B90*100,0) -> 172.03254 | G90: =IFERROR(E90/D90*100,0) -> 91.004229
A91: 451 Dodatna ulaganja na građevinskim objektima | B91: 18514.8 | E91: 31851.48
A92: 4511 Dodatna ulaganja na građevinskim objektima | B92: 18514.8 | E92: 31851.48
A93: SVEUKUPNO RASHODI | B93: 2545252.9 | C93: 2940708 | D93: 3190165.3 | E93: 3106487.3 | F93: =IFERROR(E93/B93*100,0) -> 122.05024 | G93: =IFERROR(E93/D93*100,0) -> 97.377001

Sheet Rashodi i prihodi prema izvoru
A1: IZVJEŠTAJ O IZVRŠENJU FINANCIJSKOG PLANA PRORAČUNSKOG KORISNIKA 003-03-PRVA OSNOVNA ŠKOLA , OGULIN ZA 2025.G.
A2: Oznaka | B2: Ostvarenje 2024. | C2: Plan 2025. | D2: II. REBALANS 2025. | E2: Ostvarenje 2025. | F2: IND. (5/2) | G2: IND. (5/4)
A3: 1 | B3: 2 | C3: 3 | D3: 4 | E3: 5 | F3: 6 | G3: 7
A4: UKUPNO PRIHODI | B4: 2564233.9 | C4: 2940708 | D4: 3190165.3 | E4: 2903850.7 | F4: =IFERROR(E4/B4*100,0) -> 113.24438 | G4: =IFERROR(E4/D4*100,0) -> 91.025084
A5: Izvor: 11 Opći prihodi i primici | B5: 41164.61 | C5: 79553 | D5: 152453 | E5: 135654.65 | F5: =IFERROR(E5/B5*100,0) -> 329.54193 | G5: =IFERROR(E5/D5*100,0) -> 88.981293
A6: Izvor: 31 Vlastiti prihodi | B6: 1083 | C6: 1083 | D6: 2143 | E6: 2143 | F6: =IFERROR(E6/B6*100,0) -> 197.87627 | G6: =IFERROR(E6/D6*100,0) -> 100
A7: Izvor: 432 PRIHODI ZA POSEBNE NAMJENE - korisnici | B7: 60595.24 | C7: 64417 | D7: 107600 | E7: 91025.64 | F7: =IFERROR(E7/B7*100,0) -> 150.21913 | G7: =IFERROR(E7/D7*100,0) -> 84.59632
A8: Izvor: 434 PRIHOD ZA POSEBNE NAMJENE - korisnici | B8: 0 | C8: 17809 | D8: 0 | E8: 0 | F8: =IFERROR(E8/B8*100,0) -> 0 | G8: =IFERROR(E8/D8*100,0) -> 0
A9: Izvor: 50 Pomoći | B9: 244750.63 | C9: 234457 | D9: 278809.33 | E9: 278104.58 | F9: =IFERROR(E9/B9*100,0) -> 113.62773 | G9: =IFERROR(E9/D9*100,0) -> 99.747229
A10: Izvor: 50115 Pomoći iz državnog proračuna kroz opće prihode i primitke - plaće OŠ i SŠ | B10: 2006733.6 | C10: 2230632 | D10: 2360600 | E10: 2137170.5 | F10: =IFERROR(E10/B10*100,0) -> 106.49996 | G10: =IFERROR(E10/D10*100,0) -> 90.535057
A11: Izvor: 503 POMOĆI IZ NENADLEŽNIH PRORAČUNA - KORISNICI | B11: 188047.01 | C11: 250072 | D11: 239700 | E11: 217810.52 | F11: =IFERROR(E11/B11*100,0) -> 115.8277 | G11: =IFERROR(E11/D11*100,0) -> 90.867968
A12: Izvor: 56 Fondovi EU-a | B12: 20631.62 | C12: 57555 | D12: 46230 | E12: 38264.7 | F12: =IFERROR(E12/B12*100,0) -> 185.46629 | G12: =IFERROR(E12/D12*100,0) -> 82.770279
A13: Izvor: 611 Donacije | B13: 1107.01 | C13: 5000 | D13: 2500 | E13: 3552.24 | F13: =IFERROR(E13/B13*100,0) -> 320.88599 | G13: =IFERROR(E13/D13*100,0) -> 142.0896
A14: Izvor: 711 Prihodi od nefinancijske imovine i nadoknade štete s osnova osiguranja | B14: 121.16 | C14: 130 | D14: 130 | E14: 124.79 | F14: =IFERROR(E14/B14*100,0) -> 102.99604 | G14: =IFERROR(E14/D14*100,0) -> 95.992308
A15: UKUPNO RASHODI | B15: =SUM(B16:B25) -> 2545252.9 | C15: =SUM(C16:C25) -> 2940708 | D15: =SUM(D16:D25) -> 3190165.3 | E15: =SUM(E16:E25) -> 3106487.3 | F15: =IFERROR(E15/B15*100,0) -> 122.05024 | G15: =IFERROR(E15/D15*100,0) -> 97.377001
A16: 11 Opći prihodi i primici | B16: 41164.61 | C16: 79553 | D16: 152453 | E16: 143421.31 | F16: =IFERROR(E16/B16*100,0) -> 348.40925 | G16: =IFERROR(E16/D16*100,0) -> 94.075754
A17: 31 Vlastiti prihodi | B17: 23.62 | C17: 1083 | D17: 2143 | E17: 913.79 | F17: =IFERROR(E17/B17*100,0) -> 3868.713 | G17: =IFERROR(E17/D17*100,0) -> 42.640691
A18: 432 PRIHODI ZA POSEBNE NAMJENE - korisnici | B18: 51339.99 | C18: 64417 | D18: 107600 | E18: 94922.67 | F18: =IFERROR(E18/B18*100,0) -> 184.89032 | G18: =IFERROR(E18/D18*100,0) -> 88.218095
A19: 434 PRIHOD ZA POSEBNE NAMJENE - korisnici | B19: 0 | C19: 17809 | D19: 0 | E19: 0 | F19: =IFERROR(E19/B19*100,0) -> 0 | G19: =IFERROR(E19/D19*100,0) -> 0
A20: 50 Pomoći | B20: 244750.63 | C20: 234457 | D20: 278809.33 | E20: 278695.77 | F20: =IFERROR(E20/B20*100,0) -> 113.86928 | G20: =IFERROR(E20/D20*100,0) -> 99.95927
A21: 50115 Pomoći iz državnog proračuna kroz opće prihode i primitke - plaće OŠ i SŠ | B21: 1980358.8 | C21: 2230632 | D21: 2360600 | E21: 2322533.2 | F21: =IFERROR(E21/B21*100,0) -> 117.2784 | G21: =IFERROR(E21/D21*100,0) -> 98.387408
A22: 503 POMOĆI IZ NENADLEŽNIH PRORAČUNA - KORISNICI | B22: 207364.64 | C22: 250072 | D22: 239700 | E22: 221165.72 | F22: =IFERROR(E22/B22*100,0) -> 106.65546 | G22: =IFERROR(E22/D22*100,0) -> 92.267718
A23: 56 Fondovi EU-a | B23: 19970 | C23: 57555 | D23: 46230 | E23: 42769.42 | F23: =IFERROR(E23/B23*100,0) -> 214.16835 | G23: =IFERROR(E23/D23*100,0) -> 92.514428
A24: 611 Donacije | B24: 157.01 | C24: 5000 | D24: 2500 | E24: 2027.24 | F24: =IFERROR(E24/B24*100,0) -> 1291.1534 | G24: =IFERROR(E24/D24*100,0) -> 81.0896
A25: 711 Prihodi od nefinancijske imovine i nadoknade štete s osnova osiguranja | B25: 123.6 | C25: 130 | D25: 130 | E25: 38.25 | F25: =IFERROR(E25/B25*100,0) -> 30.946602 | G25: =IFERROR(E25/D25*100,0) -> 29.423077

Sheet Rashodi prema funkcijskoj k 
A1: IZVJEŠTAJ O IZVRŠENJU FINANCIJSKOG PLANA PRORAČUNSKOG KORISNIKA 003-03-PRVA OSNOVNA ŠKOLA , OGULIN ZA 2025.G.
A2: Oznaka | B2: Ostvarenje 2024. | C2: Plan 2025. | D2: II. REBALANS 2025. | E2: Ostvarenje 2025. | F2: IND. (5/2) | G2: IND. (5/4)
A3: 1 | B3: 2 | C3: 3 | D3: 4 | E3: 5 | F3: 6 | G3: 7
A4: SVEUKUPNO | B4: 2545252.9 | C4: 2940708 | D4: 3190165.3 | E4: 3106487.3 | F4: =IFERROR(E4/B4*100,0) -> 122.05024 | G4: =IFERROR(E4/D4*100,0) -> 97.377001
A5: 09 OBRAZOVANJE | B5: 2545252.9 | C5: 2940708 | D5: 3190165.3 | E5: 3106487.3 | F5: =IFERROR(E5/B5*100,0) -> 122.05024 | G5: =IFERROR(E5/D5*100,0) -> 97.377001
A6: 091 Predškolsko i osnovno obrazovanje | B6: 2403867 | C6: 2673469 | D6: 2850269.3 | E6: 2794266.5 | F6: =IFERROR(E6/B6*100,0) -> 116.24048 | G6: =IFERROR(E6/D6*100,0) -> 98.035174
A7: 096 Dodatne usluge u obrazovanju | B7: 141385.85 | C7: 267239 | D7: 339896 | E7: 312220.82 | F7: =IFERROR(E7/B7*100,0) -> 220.8289 | G7: =IFERROR(E7/D7*100,0) -> 91.857751

Sheet Račun financiranja 
A2: RAČUN FINANCIRANJA
A3: IZVJEŠTAJ RAČUNA FINANCIRANJA PREMA EKONOMSKOJ KLASIFIKACIJI za 003-03 PRVA OSNOVNA ŠKOLA, OGULIN
A5: BROJČANA OZNAKA I NAZIV | F5: Ostvarenje 2024. | G5: Plan 2025. | H5: II. REBALANS 2025. | I5: Ostvarenje 2025. | J5: IND. (5/2) | K5: IND. (5/4)
A6: 1 | F6: 2 | G6: 3 | H6: 4 | I6: 5 | J6: 6 | K6: 7
A7: 8 | E7: Primici od financijske imovine i zaduživanja | F7: 0 | G7: 0 | H7: 0 | I7: 0 | J7: 0 | K7: 0
B8: 84 | E8: Primici od zaduživanja | F8: 0 | G8: 0 | H8: 0 | I8: 0 | J8: 0 | K8: 0
C9: 841 | E9: Primljeni krediti i zajmovi od međunarodnih organizacija, institucija i tijela EU te inozemnih vlada | F9: 0 | G9: 0 | H9: 0 | I9: 0 | J9: 0 | K9: 0
D10: 8413 | E10: Primljeni zajmovi od međunarodnih organizacija | F10: 0 | G10: 0 | H10: 0 | I10: 0 | J10: 0 | K10: 0
D11: …. | F11: 0 | G11: 0 | H11: 0 | I11: 0 | J11: 0 | K11: 0
A12: 5 | E12: Izdaci za financijsku imovinu i otplate zajmova | F12: 0 | G12: 0 | H12: 0 | I12: 0 | J12: 0 | K12: 0
B13: 54 | E13: Izdaci za otplatu glavnice primljenih kredita i zajmova | F13: 0 | G13: 0 | H13: 0 | I13: 0 | J13: 0 | K13: 0
C14: 541 | E14: Otplata glavnice primljenih kredita i zajmova od međunarodnih organizacija, institucija i tijela EU te inozemnih vlada | F14: 0 | G14: 0 | H14: 0 | I14: 0 | J14: 0 | K14: 0
D15: 5413 | E15: Otplata glavnice primljenih zajmova od međunarodnih organizacija | F15: 0 | G15: 0 | H15: 0 | I15: 0 | J15: 0 | K15: 0
A16: … | E16: …. | F16: 0 | G16: 0 | H16: 0 | I16: 0 | J16: 0 | K16: 0

Sheet Račun fin prema izvorima f
A1: IZVJEŠTAJ O IZVRŠENJU FINANCIJSKOG PLANA PRORAČUNSKOG KORISNIKA 003-03-PRVA OSNOVNA ŠKOLA , OGULIN ZA 2025.G.
A2: IZVJEŠTAJ RAČUNA FINANCIRANJA PREMA IZVORIMA FINANCIRANJA
A4: BROJČANA OZNAKA I NAZIV | B4: Ostvarenje 2024. | C4: Plan 2025. | D4: II. REBALANS 2025. | E4: Ostvarenje 2025. | F4: IND. (5/2) | G4: IND. (5/4)
A5: 1 | B5: 2 | C5: 3 | D5: 4 | E5: 5 | F5: 6 | G5: 7
A6: UKUPNO PRIMICI | B6: 0 | C6: 0 | D6: 0 | E6: 0 | F6: 0 | G6: 0
A7: 3 Vlastiti prihodi | B7: 0 | C7: 0 | D7: 0 | E7: 0 | F7: 0 | G7: 0
A8: 31 Vlastiti prihodi | B8: 0 | C8: 0 | D8: 0 | E8: 0 | F8: 0 | G8: 0
A9: UKUPNO IZDACI | B9: 0 | C9: 0 | D9: 0 | E9: 0 | F9: 0 | G9: 0
A10: 3 Vlastiti prihodi | B10: 0 | C10: 0 | D10: 0 | E10: 0 | F10: 0 | G10: 0
A11: 31 Vlastiti prihodi | B11: 0 | C11: 0 | D11: 0 | E11: 0 | F11: 0 | G11: 0

Sheet programska
A1: IZVJEŠTAJ O IZVRŠENJU FINANCIJSKOG PLANA PRORAČUNSKOG KORISNIKA 003-03-PRVA OSNOVNA ŠKOLA , OGULIN ZA 2025.G.
A2: IZVJEŠTAJ PO PROGRAMSKOJ KLASIFIKACIJI
A3: Oznaka | B3: Ostvarenje 2024. | C3: Plan 2025. | D3: II. REBALANS 2025. | E3: Ostvarenje 2025. | F3: IND. (5/2) | G3: IND. (5/4)
A4: 1 | B4: 2 | C4: 3 | D4: 4 | E4: 5 | F4: 6 | G4: 7
A5: SVEUKUPNO | B5: 2545252.9 | C5: 2940708 | D5: 3190165.3 | E5: 3106487.3 | F5: =IFERROR(E5/B5*100,0) -> 122.05024 | G5: =IFERROR(E5/D5*100,0) -> 97.377001
A6: RAZDJEL: 003 - Upravni odjel za školstvo | B6: 2545252.9 | C6: 0 | D6: 0 | E6: 0 | F6: =IFERROR(E6/B6*100,0) -> 0 | G6: =IFERROR(E6/D6*100,0) -> 0
A7: GLAVA: 003 - 012 PRVA OŠ OGULIN | B7: 2545252.9 | C7: 0 | D7: 0 | E7: 0 | F7: =IFERROR(E7/B7*100,0) -> 0 | G7: =IFERROR(E7/D7*100,0) -> 0
A8: 121 Zakonski standardi javnih ustanova OŠ | B8: 242570.75 | C8: 0 | D8: 0 | E8: 0 | F8: =IFERROR(E8/B8*100,0) -> 0 | G8: =IFERROR(E8/D8*100,0) -> 0
A9: A100034 Odgojnoobrazovno, administrativno i tehničko osoblje | B9: 39072 | C9: 0 | D9: 0 | E9: 0 | F9: =IFERROR(E9/B9*100,0) -> 0 | G9: =IFERROR(E9/D9*100,0) -> 0
A10: Funk. kl.: 0912 Osnovno obrazovanje | B10: 39072 | C10: 0 | D10: 0 | E10: 0 | F10: =IFERROR(E10/B10*100,0) -> 0 | G10: =IFERROR(E10/D10*100,0) -> 0
A11: Izvor: 50 Pomoći | B11: 39072 | C11: 0 | D11: 0 | E11: 0 | F11: =IFERROR(E11/B11*100,0) -> 0 | G11: =IFERROR(E11/D11*100,0) -> 0
A12: 3 Rashodi poslovanja | B12: 39072 | C12: 0 | D12: 0 | E12: 0 | F12: =IFERROR(E12/B12*100,0) -> 0 | G12: =IFERROR(E12/D12*100,0) -> 0
A13: 32 Materijalni rashodi | B13: 38825.8 | C13: 0 | D13: 0 | E13: 0 | F13: =IFERROR(E13/B13*100,0) -> 0 | G13: =IFERROR(E13/D13*100,0) -> 0
A14: 321 Naknade troškova zaposlenima | B14: 3861.71
A15: 3211 Službena putovanja | B15: 2644.69
A16: 3213 Stručno usavršavanje zaposlenika | B16: 191
A17: 3214 Ostale naknade troškova zaposlenima | B17: 1026.02
A18: 322 Rashodi za materijal i energiju | B18: 14664.09
A19: 3221 Uredski materijal i ostali materijalni rashodi | B19: 9268.34
A20: 3223 Energija | B20: 214.46
A21: 3224 Materijal i dijelovi za tekuće i investicijsko održavanje | B21: 3158.92
A22: 3225 Sitni inventar i auto gume | B22: 1199.51
A23: 3227 Službena, radna i zaštitna odjeća i obuća | B23: 822.86
A24: 323 Rashodi za usluge | B24: 18000
A25: 3231 Usluge telefona, pošte i prijevoza | B25: 4451.48
... A38: 3299 Ostali nespomenuti rashodi poslovanja | B38: 583
A39: 34 Financijski rashodi | B39: 246.2 | C39: 0 | D39: 0 | E39: 0 | F39: =IFERROR(E39/B39*100,0) -> 0 | G39: =IFERROR(E39/D39*100,0) -> 0
A40: 343 Ostali financijski rashodi | B40: 246.2
A41: 3431 Bankarske usluge i usluge platnog prometa | B41: 246.2
A42: A100034A Odgojnoobrazovno, administrativno i tehničko osoblje - posebni dio | B42: 115000 | C42: 0 | D42: 0 | E42: 0 | F42: =IFERROR(E42/B42*100,0) -> 0 | G42: =IFERROR(E42/D42*100,0) -> 0
A43: Funk. kl.: 0912 Osnovno obrazovanje | B43: 115000 | C43: 0 | D43: 0 | E43: 0 | F43: =IFERROR(E43/B43*100,0) -> 0 | G43: =IFERROR(E43/D43*100,0) -> 0
A44: Izvor: 50 Pomoći | B44: 115000 | C44: 0 | D44: 0 | E44: 0 | F44: =IFERROR(E44/B44*100,0) -> 0 | G44: =IFERROR(E44/D44*100,0) -> 0
A45: 3 Rashodi poslovanja | B45: 115000 | C45: 0 | D45: 0 | E45: 0 | F45: =IFERROR(E45/B45*100,0) -> 0 | G45: =IFERROR(E45/D45*100,0) -> 0
A46: 32 Materijalni rashodi | B46: 115000 | C46: 0 | D46: 0 | E46: 0 | F46: =IFERROR(E46/B46*100,0) -> 0 | G46: =IFERROR(E46/D46*100,0) -> 0
A47: 322 Rashodi za materijal i energiju | B47: 52000
A48: 3221 Uredski materijal i ostali materijalni rashodi | B48: 7054.21
A49: 3223 Energija | B49: 42717.03
A50: 3224 Materijal i dijelovi za tekuće i investicijsko održavanje | B50: 2128.77
A51: 3225 Sitni inventar i auto gume | B51: 99.99
A52: 323 Rashodi za usluge | B52: 63000
A53: 3231 Usluge telefona, pošte i prijevoza | B53: 9678.24
A54: 3232 Usluge tekućeg i investicijskog održavanja | B54: 4586.22
A55: 3233 Usluge promidžbe i informiranja | B55: 749.62
A56: 3234 Komunalne usluge | B56: 6182.25
A57: 3235 Zakupnine i najamnine | B57: 29310.61
A58: 3236 Zdravstvene i veterinarske usluge | B58: 4145.58
... A61: 3239 Ostale usluge | B61: 1699.91
A62: A100035 Operativni plan tekućeg i investicijskog održavanja OŠ | B62: 2998.75 | C62: 0 | D62: 0 | E62: 0 | F62: =IFERROR(E62/B62*100,0) -> 0 | G62: =IFERROR(E62/D62*100,0) -> 0
A63: Funk. kl.: 0912 Osnovno obrazovanje | B63: 2998.75 | C63: 0 | D63: 0 | E63: 0 | F63: =IFERROR(E63/B63*100,0) -> 0 | G63: =IFERROR(E63/D63*100,0) -> 0
A64: Izvor: 50 Pomoći | B64: 2998.75 | C64: 0 | D64: 0 | E64: 0 | F64: =IFERROR(E64/B64*100,0) -> 0 | G64: =IFERROR(E64/D64*100,0) -> 0
A65: 3 Rashodi poslovanja | B65: 2998.75 | C65: 0 | D65: 0 | E65: 0 | F65: =IFERROR(E65/B65*100,0) -> 0 | G65: =IFERROR(E65/D65*100,0) -> 0
A66: 32 Materijalni rashodi | B66: 2998.75 | C66: 0 | D66: 0 | E66: 0 | F66: =IFERROR(E66/B66*100,0) -> 0 | G66: =IFERROR(E66/D66*100,0) -> 0
A67: 323 Rashodi za usluge | B67: 2998.75
A68: 3232 Usluge tekućeg i investicijskog održavanja | B68: 2998.75
A69: A100199 Prijevoz učenika OŠ | B69: 85500 | C69: 0 | D69: 0 | E69: 0 | F69: =IFERROR(E69/B69*100,0) -> 0 | G69: =IFERROR(E69/D69*100,0) -> 0
A70: Funk. kl.: 0912 Osnovno obrazovanje | B70: 85500 | C70: 0 | D70: 0 | E70: 0 | F70: =IFERROR(E70/B70*100,0) -> 0 | G70: =IFERROR(E70/D70*100,0) -> 0
A71: Izvor: 50 Pomoći | B71: 85500 | C71: 0 | D71: 0 | E71: 0 | F71: =IFERROR(E71/B71*100,0) -> 0 | G71: =IFERROR(E71/D71*100,0) -> 0
A72: 3 Rashodi poslovanja | B72: 85500 | C72: 0 | D72: 0 | E72: 0 | F72: =IFERROR(E72/B72*100,0) -> 0 | G72: =IFERROR(E72/D72*100,0) -> 0
A73: 32 Materijalni rashodi | B73: 85500 | C73: 0 | D73: 0 | E73: 0 | F73: =IFERROR(E73/B73*100,0) -> 0 | G73: =IFERROR(E73/D73*100,0) -> 0
A74: 323 Rashodi za usluge | B74: 85500
A75: 3231 Usluge telefona, pošte i prijevoza | B75: 85500
A76: 125 Program javnih potreba iznad standarda - vlastiti prihodi | B76: 23.62 | C76: 0 | D76: 0 | E76: 0 | F76: =IFERROR(E76/B76*100,0) -> 0 | G76: =IFERROR(E76/D76*100,0) -> 0
A77: A100042 Javne potrebe iznad standarda-vlastiti prihodi | B77: 23.62 | C77: 0 | D77: 0 | E77: 0 | F77: =IFERROR(E77/B77*100,0) -> 0 | G77: =IFERROR(E77/D77*100,0) -> 0
A78: Funk. kl.: 0960 Dodatne usluge u obrazovanju | B78: 23.62 | C78: 0 | D78: 0 | E78: 0 | F78: =IFERROR(E78/B78*100,0) -> 0 | G78: =IFERROR(E78/D78*100,0) -> 0
A79: Izvor: 31 Vlastiti prihodi | B79: 23.62 | C79: 0 | D79: 0 | E79: 0 | F79: =IFERROR(E79/B79*100,0) -> 0 | G79: =IFERROR(E79/D79*100,0) -> 0
A80: 4 Rashodi za nabavu nefinancijske imovine | B80: 23.62 | C80: 0 | D80: 0 | E80: 0 | F80: =IFERROR(E80/B80*100,0) -> 0 | G80: =IFERROR(E80/D80*100,0) -> 0
A81: 42 Rashodi za nabavu proizvedene dugotrajne imovine | B81: 23.62 | C81: 0 | D81: 0 | E81: 0 | F81: =IFERROR(E81/B81*100,0) -> 0 | G81: =IFERROR(E81/D81*100,0) -> 0
A82: 424 Knjige, umjetnička djela i ostale izložbene vrijednosti | B82: 23.62
A83: 4241 Knjige | B83: 23.62
A84: 140 Javne potrebe iznad zakonskog standarda | B84: 297055.35 | C84: 0 | D84: 0 | E84: 0 | F84: =IFERROR(E84/B84*100,0) -> 0 | G84: =IFERROR(E84/D84*100,0) -> 0
A85: A100041 Županijske javne potrebe OŠ | B85: 31400.11 | C85: 0 | D85: 0 | E85: 0 | F85: =IFERROR(E85/B85*100,0) -> 0 | G85: =IFERROR(E85/D85*100,0) -> 0
A86: Funk. kl.: 0960 Dodatne usluge u obrazovanju | B86: 31400.11 | C86: 0 | D86: 0 | E86: 0 | F86: =IFERROR(E86/B86*100,0) -> 0 | G86: =IFERROR(E86/D86*100,0) -> 0
A87: Izvor: 11 Opći prihodi i primici | B87: 31400.11 | C87: 0 | D87: 0 | E87: 0 | F87: =IFERROR(E87/B87*100,0) -> 0 | G87: =IFERROR(E87/D87*100,0) -> 0
A88: 3 Rashodi poslovanja | B88: 11922.31 | C88: 0 | D88: 0 | E88: 0 | F88: =IFERROR(E88/B88*100,0) -> 0 | G88: =IFERROR(E88/D88*100,0) -> 0
A89: 32 Materijalni rashodi | B89: 11922.31 | C89: 0 | D89: 0 | E89: 0 | F89: =IFERROR(E89/B89*100,0) -> 0 | G89: =IFERROR(E89/D89*100,0) -> 0
A90: 322 Rashodi za materijal i energiju | B90: 399.8
A91: 3225 Sitni inventar i auto gume | B91: 399.8
A92: 323 Rashodi za usluge | B92: 11299.51
A93: 3231 Usluge telefona, pošte i prijevoza | B93: 11299.51
A94: 329 Ostali nespomenuti rashodi poslovanja | B94: 223
A95: 3293 Reprezentacija | B95: 223
A96: 4 Rashodi za nabavu nefinancijske imovine | B96: 19477.8 | C96: 0 | D96: 0 | E96: 0 | F96: =IFERROR(E96/B96*100,0) -> 0 | G96: =IFERROR(E96/D96*100,0) -> 0
A97: 42 Rashodi za nabavu proizvedene dugotrajne imovine | B97: 963 | C97: 0 | D97: 0 | E97: 0 | F97: =IFERROR(E97/B97*100,0) -> 0 | G97: =IFERROR(E97/D97*100,0) -> 0
A98: 424 Knjige, umjetnička djela i ostale izložbene vrijednosti | B98: 963
A99: 4241 Knjige | B99: 963
A100: 45 Rashodi za dodatna ulaganja na nefinancijskoj imovini | B100: 18514.8 | C100: 0 | D100: 0 | E100: 0 | F100: =IFERROR(E100/B100*100,0) -> 0 | G100: =IFERROR(E100/D100*100,0) -> 0
A101: 451 Dodatna ulaganja na građevinskim objektima | B101: 18514.8
A102: 4511 Dodatna ulaganja na građevinskim objektima | B102: 18514.8
A103: A100142A Prihodi od nefinancijske imovine i nadoknade štete s osnova osiguranja | B103: 123.6 | C103: 0 | D103: 0 | E103: 0 | F103: =IFERROR(E103/B103*100,0) -> 0 | G103: =IFERROR(E103/D103*100,0) -> 0
A104: Funk. kl.: 0960 Dodatne usluge u obrazovanju | B104: 123.6 | C104: 0 | D104: 0 | E104: 0 | F104: =IFERROR(E104/B104*100,0) -> 0 | G104: =IFERROR(E104/D104*100,0) -> 0
A105: Izvor: 711 Prihodi od nefinancijske imovine i nadoknade štete s osnova osiguranja | B105: 123.6 | C105: 0 | D105: 0 | E105: 0 | F105: =IFERROR(E105/B105*100,0) -> 0 | G105: =IFERROR(E105/D105*100,0) -> 0
A106: 3 Rashodi poslovanja | B106: 123.6 | C106: 0 | D106: 0 | E106: 0 | F106: =IFERROR(E106/B106*100,0) -> 0 | G106: =IFERROR(E106/D106*100,0) -> 0
A107: 32 Materijalni rashodi | B107: 123.6 | C107: 0 | D107: 0 | E107: 0 | F107: =IFERROR(E107/B107*100,0) -> 0 | G107: =IFERROR(E107/D107*100,0) -> 0
A108: 322 Rashodi za materijal i energiju | B108: 123.6
A109: 3224 Materijal i dijelovi za tekuće i investicijsko održavanje | B109: 123.6
A110: A100159 Javne potrebe iznad standarda - donacije | B110: 157.01 | C110: 0 | D110: 0 | E110: 0 | F110: =IFERROR(E110/B110*100,0) -> 0 | G110: =IFERROR(E110/D110*100,0) -> 0
A111: Funk. kl.: 0960 Dodatne usluge u obrazovanju | B111: 157.01 | C111: 0 | D111: 0 | E111: 0 | F111: =IFERROR(E111/B111*100,0) -> 0 | G111: =IFERROR(E111/D111*100,0) -> 0
A112: Izvor: 611 Donacije | B112: 157.01 | C112: 0 | D112: 0 | E112: 0 | F112: =IFERROR(E112/B112*100,0) -> 0 | G112: =IFERROR(E112/D112*100,0) -> 0
A113: 4 Rashodi za nabavu nefinancijske imovine | B113: 157.01 | C113: 0 | D113: 0 | E113: 0 | F113: =IFERROR(E113/B113*100,0) -> 0 | G113: =IFERROR(E113/D113*100,0) -> 0
A114: 42 Rashodi za nabavu proizvedene dugotrajne imovine | B114: 157.01 | C114: 0 | D114: 0 | E114: 0 | F114: =IFERROR(E114/B114*100,0) -> 0 | G114: =IFERROR(E114/D114*100,0) -> 0
...

Sheet List2

Sheet List1
