Workbook

Sheet  Sažetak
A2: IZMJENE I DOPUNE FINANCIJSKOG PLANA PRVE OSNOVNE ŠKOLE OGULIN ZA 2025. GODINU II. rebalans
A4: I. OPĆI DIO
A6: A) SAŽETAK RAČUNA PRIHODA I RASHODA
A8: RAZRED I NAZIV | F8: PLAN 2025. | G8: POVEĆANJE/ SMANJENJE | H8: NOVI PLAN 2025. | I8: INDEKS (4/2)
A9: 1 | F9: 2 | G9: 3 | H9: 4 | I9: 5
A10: PRIHODI UKUPNO | F10: =F11+F12 -> 3042402.5 | G10: =G11+G12 -> 142636.85 | H10: =H11+H12 -> 3185039.3 | I10: =H10/F10*100 -> 104.6883
A11: 6 PRIHODI POSLOVANJA | F11: =' Račun prihoda i rashoda'!B7 -> 3042272.5 | G11: =' Račun prihoda i rashoda'!C7 -> 142636.85 | H11: =' Račun prihoda i rashoda'!D7 -> 3184909.3 | I11: =H11/F11*100 -> 104.6885
A12: 7 PRIHODI OD PRODAJE NEFINANCIJSKE IMOVINE | F12: =' Račun prihoda i rashoda'!B12 -> 130 | G12: =' Račun prihoda i rashoda'!C12 -> 0 | H12: =' Račun prihoda i rashoda'!D12 -> 130 | I12: =H12/F12*100 -> 100
A13: RASHODI UKUPNO | F13: =F14+F15 -> 3047528 | G13: =G14+G15 -> 142637.33 | H13: =H14+H15 -> 3190165.3 | I13: =H13/F13*100 -> 104.68043
A14: 3 RASHODI POSLOVANJA | F14: =' Račun prihoda i rashoda'!B15 -> 2919233 | G14: =' Račun prihoda i rashoda'!C15 -> 159226.33 | H14: =' Račun prihoda i rashoda'!D15 -> 3078459.3 | I14: =H14/F14*100 -> 105.45439
A15: 4 RASHODI ZA NABAVU NEFINANCIJSKE IMOVINE | F15: =' Račun prihoda i rashoda'!B21 -> 128295 | G15: =' Račun prihoda i rashoda'!C21 -> -16589 | H15: =' Račun prihoda i rashoda'!D21 -> 111706 | I15: =H15/F15*100 -> 87.069644
A16: RAZLIKA - VIŠAK / MANJAK | F16: =F10-F13 -> -5125.52 | G16: =G10-G13 -> -0.48 | H16: =H10-H13 -> -5126 | I16: 0
A18: B) SAŽETAK RAČUNA FINANCIRANJA
A20: RAZRED I NAZIV | F20: PLAN 2025. | G20: POVEĆANJE/ SMANJENJE | H20: NOVI PLAN 2025. | I20: INDEKS (4/2)
A21: 1 | F21: 2 | G21: 3 | H21: 4 | I21: 5
A22: 8 PRIMICI OD FINANCIJSKE IMOVINE I ZADUŽIVANJA | F22: 0 | G22: 0 | H22: 0 | I22: 0
A23: 5 IZDACI ZA FINANCIJSKU IMOVINU I OTPLATE ZAJMOVA | F23: 0 | G23: 0 | H23: 0 | I23: 0
A24: NETO FINANCIRANJE | F24: =F22-F23 -> 0 | G24: =G22-G23 -> 0 | H24: =H22-H23 -> 0 | I24: 0
A25: NEUTROŠENA SREDSTVA IZ PRETHODNIH GODINA | F25: =' Račun prihoda i rashoda'!B26 -> 5125.52 | G25: =' Račun prihoda i rashoda'!C26 -> 0.48 | H25: =' Račun prihoda i rashoda'!D26 -> 5126 | I25: =' Račun prihoda i rashoda'!E26 -> 100.00936
A27: UKUPNO FINANCIJSKI PLAN
A29: NAZIV | F29: PLAN 2025. | G29: POVEĆANJE/ SMANJENJE | H29: NOVI PLAN 2025. | I29: INDEKS (4/2)
A30: 1 | F30: 2 | G30: 3 | H30: 4 | I30: 5
A31: UKUPNO FINANCIJSKI PLAN
A32: PRIHODI, PRIMICI I NEUTROŠENA SREDSTVA | F32: =F10+F22+F25 -> 3047528 | G32: =G10+G22+G25 -> 142637.33 | H32: =H10+H22+H25 -> 3190165.3 | I32: =H32/F32*100 -> 104.68043
A33: RASHODI I IZDACI | F33: =F13 -> 3047528 | G33: =G13 -> 142637.33 | H33: =H13 -> 3190165.3 | I33: =H33/F33*100 -> 104.68043
A35: D) VIŠEGODIŠNJI PLAN URAVNOTEŽENJA
A37: NAZIV | F37: PLAN 2025. | G37: POVEĆANJE/ SMANJENJE | H37: NOVI PLAN 2025. | I37: INDEKS (4/2)
A38: 1 | F38: 2 | G38: 3 | H38: 4 | I38: 5
A39: PRIJENOS VIŠKA / MANJKA IZ PRETHODNE(IH) GODINE | F39: 0 | G39: =F42 -> 0 | H39: =G42 -> 0 | I39: =H42 -> 0
A40: VIŠAK / MANJAK IZ PRETHODNE(IH) GODINE KOJI ĆE SE RASPOREDITI / POKRITI | F40: 0 | G40: 0 | H40: 0 | I40: 0
A41: VIŠAK / MANJAK TEKUĆE GODINE (VIŠAK / MANJAK + NETO FINANCIRANJE) | F41: 0 | G41: 0 | H41: 0 | I41: 0
A42: PRIJENOS VIŠKA / MANJKA U SLJEDEĆE RAZDOBLJE | F42: =F39-F40+F41 -> 0 | G42: =G39-G40+G41 -> 0 | H42: =H39-H40+H41 -> 0 | I42: =I39-I40+I41 -> 0

Sheet  Račun prihoda i rashoda
A1: A. RAČUN PRIHODA I RASHODA
A2: IZMJENE I DOPUNE FINANCIJSKOG PLANA PRVE OSNOVNE ŠKOLE OGULIN ZA 2025. GODINU II. rebalans
A4: Oznaka | B4: PLAN 2025. | C4: POVEĆANJE/ SMANJENJE | D4: NOVI PLAN 2025. | E4: INDEKS (4/2)
A5: 1 | B5: 2 | C5: 3 | D5: 4 | E5: 5
A6: A. RAČUN PRIHODA I RASHODA
A7: 6 Prihodi poslovanja | B7: =SUM(B8:B11) -> 3042272.5 | C7: =SUM(C8:C11) -> 142636.85 | D7: =SUM(D8:D11) -> 3184909.3 | E7: =D7/B7*100 -> 104.6885
A8: 63 Pomoći iz inozemstva i od subjekata unutar općeg proračuna | B8: 2492232.8 | C8: =D8-B8 -> 105101.2 | D8: 2597334 | E8: =D8/B8*100 -> 104.21715
A9: 65 Prihodi od upravnih i administrativnih pristojbi, pristojbi po posebnim propisima i naknada | B9: 67397.06 | C9: =D9-B9 -> 39452.94 | D9: 106850 | E9: =D9/B9*100 -> 158.53807
A10: 66 Prihodi od prodaje proizvoda i robe te pruženih usluga i prihodi od donacija te povrati po protestiranim jamstvima | B10: 6123.62 | C10: =D10-B10 -> -2890.62 | D10: 3233 | E10: =D10/B10*100 -> 52.795569
A11: 67 Prihodi iz nadležnog proračuna i od HZZO-a temeljem ugovornih obveza | B11: 476519 | C11: =D11-B11 -> 973.33 | D11: 477492.33 | E11: =D11/B11*100 -> 100.20426
A12: 7 Prihodi od prodaje nefinancijske imovine | B12: 130 | C12: =D12-B12 -> 0 | D12: 130 | E12: =D12/B12*100 -> 100
A13: 72 Prihodi od prodaje proizvedene dugotrajne imovine | B13: 130 | C13: =D13-B13 -> 0 | D13: 130 | E13: =D13/B13*100 -> 100
A14: SVEUKUPNO PRIHODI | B14: =B7+B12 -> 3042402.5 | C14: =C7+C12 -> 142636.85 | D14: =D7+D12 -> 3185039.3 | E14: =D14/B14*100 -> 104.6883
A15: 3 Rashodi poslovanja | B15: 2919233 | C15: =D15-B15 -> 159226.33 | D15: 3078459.3 | E15: =D15/B15*100 -> 105.45439
A16: 31 Rashodi za zaposlene | B16: 2365880 | C16: =D16-B16 -> 122280 | D16: 2488160 | E16: =D16/B16*100 -> 105.16848
A17: 32 Materijalni rashodi | B17: 518328.7 | C17: =D17-B17 -> 38209.33 | D17: 556538.03 | E17: =D17/B17*100 -> 107.37164
A18: 34 Financijski rashodi | B18: 1324.3 | C18: =D18-B18 -> -763 | D18: 561.3 | E18: =D18/B18*100 -> 42.384656
A19: 37 Naknade građanima i kućanstvima na temelju osiguranja i druge naknade | B19: 30000 | C19: =D19-B19 -> 1000 | D19: 31000 | E19: =D19/B19*100 -> 103.33333
A20: 38 Ostali rashodi | B20: 3700 | C20: =D20-B20 -> -1500 | D20: 2200 | E20: =D20/B20*100 -> 59.459459 | H20: =B11-G20 -> 476519
A21: 4 Rashodi za nabavu nefinancijske imovine | B21: 128295 | C21: =D21-B21 -> -16589 | D21: 111706 | E21: =D21/B21*100 -> 87.069644
A22: 42 Rashodi za nabavu proizvedene dugotrajne imovine | B22: 88295 | C22: =D22-B22 -> -11589 | D22: 76706 | E22: =D22/B22*100 -> 86.874681
A23: 45 Rashodi za dodatna ulaganja na nefinancijskoj imovini | B23: 40000 | C23: =D23-B23 -> -5000 | D23: 35000 | E23: =D23/B23*100 -> 87.5
A24: SVEUKUPNO RASHODI | B24: 3047528 | C24: =D24-B24 -> 142637.33 | D24: 3190165.3 | E24: =D24/B24*100 -> 104.68043
A25: NEUTROŠENA SREDSTVA IZ PRETHODNIH GODINA | B25: 5125.52 | C25: =D25-B25 -> 0.48 | D25: 5126 | E25: =D25/B25*100 -> 100.00936
A26: 9 Vlastiti izvori | B26: 5125.52 | C26: =D26-B26 -> 0.48 | D26: 5126 | E26: =D26/B26*100 -> 100.00936
A27: 92 Rezultat poslovanja | B27: 5125.52 | C27: =D27-B27 -> 0.48 | D27: 5126 | E27: =D27/B27*100 -> 100.00936
A28: SVEUKUPNO PRIHODI, PRIMICI I NEUTROŠENA SREDSTVA | B28: =B14+B25 -> 3047528 | C28: =D28-B28 -> 142637.33 | D28: =D14+D25 -> 3190165.3 | E28: =D28/B28*100 -> 104.68043
A29: SVEUKUPNO RASHODI I IZDACI | B29: =B24 -> 3047528 | C29: =C24 -> 142637.33 | D29: =D24 -> 3190165.3 | E29: =D29/B29*100 -> 104.68043
A31: A2. PRIHODI I RASHODI PREMA IZVORIMA FINANCIRANJA
A33: Oznaka | B33: PLAN 2025. | C33: POVEĆANJE/ SMANJENJE | D33: NOVI PLAN 2025. | E33: INDEKS (4/2)
A34: 1 | B34: 2 | C34: 3 | D34: 4 | E34: 5
A35: SVEUKUPNO PRIHODI, PRIMICI I NEUTROŠENA SREDSTVA | B35: 3047528 | C35: 142637.33 | D35: 3190165.3 | E35: 104.68
A36: 1 OPĆI PRIHODI I PRIMICI | B36: 159765 | C36: -7312 | D36: 152453 | E36: 95.42
A37: 11 Opći prihodi i primici | B37: 159765 | C37: -7312 | D37: 152453 | E37: 95.42
A38: 3 VLASTITI PRIHODI | B38: 2183 | C38: -40 | D38: 2143 | E38: 98.17
A39: 31 Vlastiti prihodi | B39: 2183 | C39: -40 | D39: 2143 | E39: 98.17
A40: 4 Prihodi za posebne namjene | B40: 68147 | C40: 39453 | D40: 107600 | E40: 157.89
A41: 43 Ostali prihodi za posebne namjene | B41: 68147 | C41: 39453 | D41: 107600 | E41: 157.89
A42: 5 POMOĆI | B42: 2811953 | C42: 113386.33 | D42: 2925339.3 | E42: 104.03
A43: 50 Pomoći iz državnog proračuna | B43: 2769483 | C43: 109626.33 | D43: 2879109.3 | E43: 103.96
...

Sheet  Račun financiranja
A2: IZMJENE I DOPUNE FINANCIJSKOG PLANA PRVE OSNOVNE ŠKOLE OGULIN ZA 2025. GODINU II. rebalans
A4: B1. RAČUN FINANCIRANJA PREMA EKONOMSKOJ KLASIFIKACIJI
A6: Razred/ skupina | B6: NAZIV | C6: PLAN 2025. | D6: POVEĆANJE/ SMANJENJE | E6: NOVI PLAN 2025. | F6: INDEKS (4/2)
A7: 1 | B7: 2 | C7: 3 | D7: 4 | E7: 5 | F7: 6
A8: 8 | B8: Primici od financijske imovine i zaduživanja | C8: 0 | D8: 0 | E8: 0 | F8: 0
A9: 84 | B9: Primici od zaduživanja | C9: 0 | D9: 0 | E9: 0 | F9: 0
A10: 5 | B10: Izdaci za financijsku imovinu i otplate zajmova | C10: 0 | D10: 0 | E10: 0 | F10: 0
A11: 54 | B11: Izdaci za otplatu glavnice primljenih kredita i zajmova | C11: 0 | D11: 0 | E11: 0 | F11: 0
B14: B2. RAČUN FINANCIRANJA PREMA IZVORIMA FINANCIRANJA
A16: Razred/ skupina | B16: Oznaka | C16: PLAN 2025. | D16: POVEĆANJE/ SMANJENJE | E16: NOVI PLAN 2025. | F16: INDEKS (4/2)
A17: 1 | B17: 2 | C17: 3 | D17: 4 | E17: 5 | F17: 6
A18: 8 | B18: Namjenski primici | C18: 0 | D18: 0 | E18: 0 | F18: 0
A19: 81 | B19: Namjenski primici od zaduživanja | C19: 0 | D19: 0 | E19: 0 | F19: 0
B20: UKUPNO IZDACI | C20: 0 | D20: 0 | E20: 0 | F20: 0
A21: 1 | B21: Opći prihodi i primici | C21: 0 | D21: 0 | E21: 0 | F21: 0
A22: 11 | B22: Opći prihodi i primici | C22: 0 | D22: 0 | E22: 0 | F22: 0

Sheet posebni dio
A1: B3. POSEBNI DIO
A3: Oznaka | B3: PLAN 2025. | C3: POVEĆANJE/ SMANJENJE | D3: NOVI PLAN 2025. | E3: INDEKS (4/2)
A4: 1 | B4: 2 | C4: 3 | D4: 4 | E4: 5
A5: SVEUKUPNO RASHODI I IZDACI | B5: 3047528 | C5: 142637.33 | D5: 3190165.3 | E5: 104.68
A6: RAZDJEL: 003 Upravni odjel za društvene djelatnosti | B6: 3047528 | C6: 142637.33 | D6: 3190165.3 | E6: 104.68
A7: GLAVA: 003-03 PRVA OŠ OGULIN | B7: 3047528 | C7: 142637.33 | D7: 3190165.3 | E7: 104.68
A8: izvor: 1 OPĆI PRIHODI I PRIMICI | B8: 159765 | C8: -7312 | D8: 152453 | E8: 95.42
A9: izvor: 3 VLASTITI PRIHODI | B9: 2183 | C9: -40 | D9: 2143 | E9: 98.17
A10: izvor: 4 Prihodi za posebne namjene | B10: 68147 | C10: 39453 | D10: 107600 | E10: 157.89
A11: izvor: 5 POMOĆI | B11: 2811953 | C11: 113386.33 | D11: 2925339.3 | E11: 104.03
A12: izvor: 6 DONACIJE | B12: 5350 | C12: -2850 | D12: 2500 | E12: 46.73
A13: izvor: 7 Prihodi od nefin. imovine i nadoknade štete s osnova osig. | B13: 130 | C13: 0 | D13: 130 | E13: 100
A14: 121 Zakonski standardi javnih ustanova OŠ | B14: 268004 | C14: 3965.33 | D14: 271969.33 | E14: 101.48
A15: A100034 Odgojnoobrazovno, administrativno i tehničko osoblje | B15: 38004 | C15: 0 | D15: 38004 | E15: 100
A16: Fun. kl.: 0912 Osnovno obrazovanje | B16: 38004 | C16: 0 | D16: 38004 | E16: 100
... A116: 34 Financijski rashodi | B116: 500 | C116: -500 | D116: 0 | E116: 0
