Workbook

Sheet SAŽETAK
A1: FINANCIJSKI PLAN PRVE OSNOVNE ŠKOLE OGULIN ZA 2026. I PROJEKCIJE ZA 2027. I 2028. GODINU
A3: I. OPĆI DIO
A5: A) SAŽETAK RAČUNA PRIHODA I RASHODA
J6: EUR
F7: Ostvarenje 2024. | G7: Plan 2025. | H7: Plan 2026. | I7: Projekcija 2027. | J7: Projekcija 2028.
A8: PRIHODI UKUPNO | F8: =F9+F10 -> 2554386.7 | G8: =G9+G10 -> 3008402.5 | H8: =H9+H10 -> 3110216 | I8: =I9+I10 -> 3083966 | J8: =J9+J10 -> 3083966
A9: 6 PRIHODI POSLOVANJA | F9: ='opći dio'!B11 -> 2554265.6 | G9: ='opći dio'!C11 -> 3008272.5 | H9: ='opći dio'!D11 -> 3110086 | I9: ='opći dio'!E11 -> 3083836 | J9: ='opći dio'!F11 -> 3083836
A10: 7 PRIHODI OD PRODAJE NEFINANCIJSKE IMOVINE | F10: ='opći dio'!B16 -> 121.16 | G10: ='opći dio'!C16 -> 130 | H10: ='opći dio'!D16 -> 130 | I10: ='opći dio'!E16 -> 130 | J10: ='opći dio'!F16 -> 130
A11: RASHODI UKUPNO | F11: =F12+F13 -> 2545252.9 | G11: =G12+G13 -> 3047528 | H11: =H12+H13 -> 3110216 | I11: =I12+I13 -> 3083966 | J11: =J12+J13 -> 3083966
A12: 3 RASHODI POSLOVANJA | F12: ='opći dio'!B19 -> 2498239.8 | G12: ='opći dio'!C19 -> 2919233 | H12: ='opći dio'!D19 -> 3048771 | I12: ='opći dio'!E19 -> 3030771 | J12: ='opći dio'!F19 -> 3030771
A13: 4 RASHODI ZA NABAVU NEFINANCIJSKE IMOVINE | F13: ='opći dio'!B25 -> 47013.06 | G13: ='opći dio'!C25 -> 128295 | H13: ='opći dio'!D25 -> 61445 | I13: ='opći dio'!E25 -> 53195 | J13: ='opći dio'!F25 -> 53195
A14: RAZLIKA - VIŠAK / MANJAK | F14: =F8-F11 -> 9133.87 | G14: =G8-G11 -> -39125.52 | H14: =H8-H11 -> 0 | I14: =I8-I11 -> 0 | J14: =J8-J11 -> 0
A16: B) SAŽETAK RAČUNA FINANCIRANJA
F18: Ostvarenje 2024. | G18: Plan 2025. | H18: Plan 2026. | I18: Projekcija 2027. | J18: Projekcija 2028.
A19: 8 PRIMICI OD FINANCIJSKE IMOVINE I ZADUŽIVANJA | F19: 0 | G19: 0 | H19: 0 | I19: 0 | J19: 0
A20: 5 IZDACI ZA FINANCIJSKU IMOVINU I OTPLATE ZAJMOVA | F20: 0 | G20: 0 | H20: 0 | I20: 0 | J20: 0
A21: NETO FINANCIRANJE | F21: =F19-F20 -> 0 | G21: =G19-G20 -> 0 | H21: =H19-H20 -> 0 | I21: =I19-I20 -> 0 | J21: =J19-J20 -> 0
A22: VIŠAK / MANJAK + NETO FINANCIRANJE | F22: =F14+F21 -> 9133.87 | G22: =G14+G21 -> -39125.52 | H22: =H14+H21 -> 0 | I22: =I14+I21 -> 0 | J22: =J14+J21 -> 0
A24: C) PRENESENI VIŠAK ILI PRENESENI MANJAK
F26: Ostvarenje 2024. | G26: Plan 2025. | H26: Plan 2026. | I26: Projekcija 2027. | J26: Projekcija 2028.
A27: PRIJENOS VIŠKA / MANJKA IZ PRETHODNE(IH) GODINE | F27: 0 | G27: 39125.52 | H27: 0 | I27: 0 | J27: 0
A28: PRIJENOS VIŠKA / MANJKA U SLJEDEĆE RAZDOBLJE | F28: =F22+F27 -> 9133.87 | G28: =G22+G27 -> 0 | H28: =H22+H27 -> 0 | I28: =I22+I27 -> 0 | J28: =J22+J27 -> 0
A29: VIŠAK / MANJAK + NETO FINANCIRANJE + PRIJENOS VIŠKA / MANJKA IZ PRETHODNE(IH) GODINE - PRIJENOS VIŠKA / MANJKA U SLJEDEĆE RAZDOBLJE | F29: =F14+F21+F27-F28 -> 0 | G29: =G14+G21+G27-G28 -> -2.1827873e-11 | H29: =H14+H21+H27-H28 -> 0 | I29: =I14+I21+I27-I28 -> 0 | J29: =J14+J21+J27-J28 -> 0
A31: D) VIŠEGODIŠNJI PLAN URAVNOTEŽENJA
F33: Izvršenje 2024. | G33: Tekući plan 2025. | H33: Plan 2026. | I33: Projekcija 2027. | J33: Projekcija 2028.
A34: PRIJENOS VIŠKA / MANJKA IZ PRETHODNE(IH) GODINE | F34: 0 | G34: =F37 -> 0 | H34: =G37 -> 0 | I34: =H37 -> 0 | J34: =I37 -> 0
A35: VIŠAK / MANJAK IZ PRETHODNE(IH) GODINE KOJI ĆE SE RASPOREDITI / POKRITI | F35: 0 | G35: 0 | H35: 0 | I35: 0 | J35: 0
A36: VIŠAK / MANJAK TEKUĆE GODINE | F36: 0 | G36: 0 | H36: 0 | I36: 0 | J36: 0
A37: PRIJENOS VIŠKA / MANJKA U SLJEDEĆE RAZDOBLJE | F37: =F34-F35+F36 -> 0 | G37: =G34-G35+G36 -> 0 | H37: =H34-H35+H36 -> 0 | I37: =I34-I35+I36 -> 0 | J37: =J34-J35+J36 -> 0

Sheet opći dio
A2: I. OPĆI DIO
A4: A. RAČUN PRIHODA I RASHODA
A6: PRIHODI I RASHODI PREMA EKONOMSKOJ KLASIFIKACIJI
A8: Oznaka | B8: Ostvarenje 2024. | C8: Plan 2025. | D8: Plan 2026. | E8: Projekcija 2027. | F8: Projekcija 2028.
A9: 1 | B9: 2 | C9: 3 | D9: 4 | E9: 5 | F9: 6
A10: A. RAČUN PRIHODA I RASHODA
A11: 6 Prihodi poslovanja | B11: 2554265.6 | C11: 3008272.5 | D11: 3110086 | E11: 3083836 | F11: 3083836
A12: 63 Pomoći iz inozemstva i od subjekata unutar općeg proračuna | B12: 2194140.6 | C12: 2492232.8 | D12: 2528299 | E12: 2528299 | F12: 2528299
A13: 65 Prihodi od upravnih i administrativnih pristojbi, pristojbi po posebnim propisima i naknada | B13: 51388.08 | C13: 67397.06 | D13: 115447 | E13: 97447 | F13: 97447
A14: 66 Prihodi od prodaje proizvoda i robe te pruženih usluga i prihodi od donacija te povrati po protestiranim jamstvima | B14: 2190.01 | C14: 6123.62 | D14: 6433 | E14: 6433 | F14: 6433
A15: 67 Prihodi iz nadležnog proračuna i od HZZO-a temeljem ugovornih obveza | B15: 306546.86 | C15: 442519 | D15: 459907 | E15: 451657 | F15: 451657 | G15: PAZITI NA VIŠAK 922? U 2024 I 2025
A16: 7 Prihodi od prodaje nefinancijske imovine | B16: 121.16 | C16: 130 | D16: 130 | E16: 130 | F16: 130
A17: 72 Prihodi od prodaje proizvedene dugotrajne imovine | B17: 121.16 | C17: 130 | D17: 130 | E17: 130 | F17: 130
A18: SVEUKUPNO PRIHODI | B18: 2554386.7 | C18: 3008402.5 | D18: 3110216 | E18: 3083966 | F18: 3083966
A19: 3 Rashodi poslovanja | B19: 2498239.8 | C19: 2919233 | D19: 3048771 | E19: 3030771 | F19: 3030771
A20: 31 Rashodi za zaposlene | B20: 2023046.8 | C20: 2365880 | D20: 2466400 | E20: 2466400 | F20: 2466400
A21: 32 Materijalni rashodi | B21: 448059.83 | C21: 518328.7 | D21: 547508 | E21: 529508 | F21: 529508
A22: 34 Financijski rashodi | B22: 512.29 | C22: 1324.3 | D22: 1163 | E22: 1163 | F22: 1163
A23: 37 Naknade građanima i kućanstvima na temelju osiguranja i druge naknade | B23: 25579.11 | C23: 30000 | D23: 30000 | E23: 30000 | F23: 30000
A24: 38 Ostali rashodi | B24: 1041.81 | C24: 3700 | D24: 3700 | E24: 3700 | F24: 3700
A25: 4 Rashodi za nabavu nefinancijske imovine | B25: 47013.06 | C25: 128295 | D25: 61445 | E25: 53195 | F25: 53195
A26: 41 Rashodi za nabavu neproizvedene dugotrajne imovine | B26: 0 | C26: 0 | D26: 250 | E26: 0 | F26: 0
A27: 42 Rashodi za nabavu proizvedene dugotrajne imovine | B27: 28498.26 | C27: 88295 | D27: 53195 | E27: 53195 | F27: 53195
... A29: SVEUKUPNO RASHODI | B29: 2545252.9 | C29: 3047528 | D29: 3110216 | E29: 3083966 | F29: 3083966

Sheet Prihodi i rashodi po izvorima
A1: FINANCIJSKI PLAN PRVA OSNOVNE ŠKOLE OGULIN ZA 2026. I PROJEKCIJE ZA 2027. I 2028. GODINU
A3: I. OPĆI DIO
A5: A. RAČUN PRIHODA I RASHODA
A7: PRIHODI I RASHODI PREMA IZVORIMA FINANCIRANJA
A9: Brojčana oznaka i naziv | B9: Ostvarenje 2024. | C9: Plan 2025. | D9: Plan 2026. | E9: Projekcija 2027. | F9: Projekcija 2028.
A10: UKUPNO PRIHODI | B10: 2554386.7 | C10: 3047528 | D10: 3110216 | E10: 3083966 | F10: 3083966
A11: izvor: 01 Opći prihodi i primici | B11: 41164.61 | C11: 159765 | D11: 110063 | E11: 101813 | F11: 101813
A12: izvor: 03 Vlastiti prihodi | B12: 1083 | C12: 2183 | D12: 1083 | E12: 1083 | F12: 1083
A13: izvor: 05 Pomoći | B13: 244750.63 | C13: 274284 | D13: 268004 | E13: 268004 | F13: 268004
A14: izvor: 432 PRIHODI ZA POSEBNE NAMJENE - korisnici | B14: 51388.08 | C14: 68147 | D14: 115447 | E14: 97447 | F14: 97447
A15: izvor: 5012 Pomoći kroz nacionalno sufinanciranje EU projekta | B15: 0 | C15: 0 | D15: 10950 | E15: 10950 | F15: 10950
A16: izvor: 503 POMOĆI IZ NENADLEŽNIH PRORAČUNA - KORISNICI | B16: 187406.99 | C16: 263599 | D16: 296699 | E16: 296699 | F16: 296699
A17: izvor: 512 Pomoći iz državnog proračuna - plaće MZOS | B17: 2006733.6 | C17: 2231600 | D17: 2231600 | E17: 2231600 | F17: 2231600
A18: izvor: 56 Fondovi EU-a | B18: 20631.62 | C18: 42470 | D18: 6670 | E18: 6670 | F18: 6670
A19: izvor: 561 Europski socijalni fond | B19: 0 | C19: 0 | D19: 64220 | E19: 64220 | F19: 64220
A20: izvor: 611 Donacije | B20: 1107.01 | C20: 5350 | D20: 5350 | E20: 5350 | F20: 5350
A21: izvor: 711 Prihodi od nefinancijske imovine i nadoknade štete s osnova osiguranja | B21: 121.16 | C21: 130 | D21: 130 | E21: 130 | F21: 130
A24: Brojčana oznaka i naziv | B24: Izvršenje 2024. | C24: Plan 2025. | D24: Plan 2026. | E24: Projekcija 2027. | F24: Projekcija 2028.
A25: UKUPNO RASHODI | B25: 2545252.9 | C25: 3047528 | D25: 3110216 | E25: 3083966 | F25: 3083966
A26: izvor: 01 Opći prihodi i primici | B26: 41164.61 | C26: 159765 | D26: 110063 | E26: 101813 | F26: 101813
A27: izvor: 03 Vlastiti prihodi | B27: 23.62 | C27: 2183 | D27: 1083 | E27: 1083 | F27: 1083
A28: izvor: 05 Pomoći | B28: 244750.63 | C28: 274284 | D28: 268004 | E28: 268004 | F28: 268004
A29: izvor: 432 PRIHODI ZA POSEBNE NAMJENE - korisnici | B29: 51339.99 | C29: 68147 | D29: 115447 | E29: 97447 | F29: 97447
A30: izvor: 5012 Pomoći kroz nacionalno sufinanciranje EU projekta | B30: 0 | C30: 0 | D30: 10950 | E30: 10950 | F30: 10950
A31: izvor: 503 POMOĆI IZ NENADLEŽNIH PRORAČUNA - KORISNICI | B31: 207364.64 | C31: 263599 | D31: 296699 | E31: 296699 | F31: 296699
A32: izvor: 512 Pomoći iz državnog proračuna - plaće MZOS | B32: 1980358.8 | C32: 2231600 | D32: 2231600 | E32: 2231600 | F32: 2231600
A33: izvor: 56 Fondovi EU-a | B33: 19970 | C33: 42470 | D33: 6670 | E33: 6670 | F33: 6670
A34: izvor: 561 Europski socijalni fond | B34: 0 | C34: 0 | D34: 64220 | E34: 64220 | F34: 64220
A35: izvor: 611 Donacije | B35: 157.01 | C35: 5350 | D35: 5350 | E35: 5350 | F35: 5350
A36: izvor: 711 Prihodi od nefinancijske imovine i nadoknade štete s osnova osiguranja | B36: 123.6 | C36: 130 | D36: 130 | E36: 130 | F36: 130

Sheet Rashodi prema funkcijskoj kl
A1: FINANCIJSKI PLAN PRVE OSNOVNE ŠKOLE, OGULIN ZA 2026. I PROJEKCIJE ZA 2027. I 2028. GODINU
A3: I. OPĆI DIO
A5: A. RAČUN PRIHODA I RASHODA
A7: RASHODI PREMA FUNKCIJSKOJ KLASIFIKACIJI
A9: Brojčana oznaka i naziv | B9: Izvršenje 2024. | C9: Plan 2025. | D9: Plan 2026. | E9: Projekcija 2027. | F9: Projekcija 2028.
A10: SVEUKUPNO RASHODI | B10: 2545252.9 | C10: 3047528 | D10: 3110216 | E10: 3083966 | F10: 3083966
A11: 09 OBRAZOVANJE | B11: 2545252.9 | C11: 3047528 | D11: 3110216 | E11: 3083966 | F11: 3083966
A12: 091 Predškolsko i osnovno obrazovanje | B12: 2403867 | C12: 2731176 | D12: 2764276 | E12: 2796303 | F12: 2796303
A13: 0912 Osnovno obrazovanje | B13: 2403867 | C13: 2731176 | D13: 2764276 | E13: 2796303 | F13: 2796303
A14: 096 Dodatne usluge u obrazovanju | B14: 141385.85 | C14: 316352 | D14: 345940 | E14: 287663 | F14: 287663
A15: 0960 Dodatne usluge u obrazovanju | B15: 141385.85 | C15: 316352 | D15: 345940 | E15: 287663 | F15: 287663

Sheet Račun financiranja po izvorima
A1: FINANCIJSKI PLAN PRVE OSNOVNE ŠKOLE, OGULIN ZA 2026. I PROJEKCIJA ZA 2027. I 2028. GODINU
A3: I. OPĆI DIO
A5: RAČUN FINANCIRANJA PREMA IZVORIMA FINANCIRANJA
A7: Brojčana oznaka i naziv | B7: Izvršenje 2024. | C7: Plan 2025. | D7: Plan 2026. | E7: Projekcija 2027. | F7: Projekcija 2028.
A8: UKUPNO PRIMICI | B8: 0 | C8: 0 | D8: 0 | E8: 0 | F8: 0
A9: 1 Opći prihodi i primici | B9: 0 | C9: 0 | D9: 0 | E9: 0 | F9: 0
A10: 11 Opći prihodi i primici | B10: 0 | C10: 0 | D10: 0 | E10: 0 | F10: 0
A11: 8 Namjenski primici od financijske imovine i zaduživanja | B11: 0 | C11: 0 | D11: 0 | E11: 0 | F11: 0
A12: 81 Namjenski primici od financijske imovine i zaduživanja | B12: 0 | C12: 0 | D12: 0 | E12: 0 | F12: 0
A13: UKUPNO IZDACI | B13: 0 | C13: 0 | D13: 0 | E13: 0 | F13: 0
A14: 1 Opći prihodi i primici | B14: 0 | C14: 0 | D14: 0 | E14: 0 | F14: 0
A15: 11 Opći prihodi i primici | B15: 0 | C15: 0 | D15: 0 | E15: 0 | F15: 0
A16: 3 Vlastiti prihodi | B16: 0 | C16: 0 | D16: 0 | E16: 0 | F16: 0
A17: 31 Vlastiti prihodi | B17: 0 | C17: 0 | D17: 0 | E17: 0 | F17: 0

Sheet POSEBNI DIO
A1: FINANCIJSKI PLAN PRVE OSNOVNE ŠKOLE OGULIN ZA 2026. I PROJEKCIJA ZA 2027. I 2028. GODINU
A3: II. POSEBNI DIO
A5: Oznaka | B5: Izvršenje 2024. | C5: Plan 2025. | D5: Plan 2026. | E5: Projekcija 2027. | F5: Projekcija 2028.
A6: SVEUKUPNO | B6: 2545252.9 | C6: 3047528 | D6: 3110216 | E6: 3083966 | F6: 3083966
A7: 121 Zakonski standardi javnih ustanova OŠ | B7: 242570.75 | C7: 268004 | D7: 268004 | E7: 268004 | F7: 268004
A8: A100034 Odgojnoobrazovno, administrativno i tehničko osoblje | B8: 39072 | C8: 38004 | D8: 38004 | E8: 38004 | F8: 38004
A9: 0912 Osnovno obrazovanje | B9: 39072 | C9: 38004 | D9: 38004 | E9: 38004 | F9: 38004
A10: izvor: 05 Pomoći | B10: 39072 | C10: 38004 | D10: 38004 | E10: 38004 | F10: 38004
A11: 3 Rashodi poslovanja | B11: 39072 | C11: 38004 | D11: 38004 | E11: 38004 | F11: 38004
A12: 32 Materijalni rashodi | B12: 38825.8 | C12: 37842.7 | D12: 38004 | E12: 38004 | F12: 38004
A13: 34 Financijski rashodi | B13: 246.2 | C13: 161.3 | D13: 0 | E13: 0 | F13: 0
A14: A100034A Odgojnoobrazovno, administrativno i tehničko osoblje - posebni dio | B14: 115000 | C14: 130000 | D14: 130000 | E14: 130000 | F14: 130000
A15: 0912 Osnovno obrazovanje | B15: 115000 | C15: 130000 | D15: 130000 | E15: 130000 | F15: 130000
A16: izvor: 05 Pomoći | B16: 115000 | C16: 130000 | D16: 130000 | E16: 130000 | F16: 130000
A17: 3 Rashodi poslovanja | B17: 115000 | C17: 130000 | D17: 130000 | E17: 130000 | F17: 130000
... A118: 34 Financijski rashodi | B118: 0 | C118: 500 | D118: 500 | E118: 500 | F118: 500
