Workbook

Sheet SAŽETAK
A1: IZVJEŠTAJ O POLUGODIŠNJEM IZVRŠENJU FINANCIJSKOG PLANA PRVE OSNOVNE ŠKOLE OGULIN ZA 2025. GODINU
A2: I. OPĆI DIO
A3: SAŽETAK RAČUNA PRIHODA I RASHODA I RAČUNA FINANCIRANJA
A5: SAŽETAK RAČUNA PRIHODA I RASHODA
A6: BROJČANA OZNAKA I NAZIV | B6: IZVRŠENJE 01.01.-30.06.2024. | C6: PLAN 2025. | D6: I REBALANS 2025. | E6: IZVRŠENJE 01.01.-30.06.2025. | F6: IND. (5/2) | G6: IND. (5/4)
A7: 1 | B7: 2 | C7: 3 | D7: 4 | E7: 5 | F7: 6 | G7: 7
A8: PRIHODI UKUPNO | B8: =SUM(B9:B10) -> 1238781.2 | C8: =SUM(C9:C10) -> 2940708 | D8: =SUM(D9:D10) -> 2988202.5 | E8: =SUM(E9:E10) -> 1350784.6 | F8: =IFERROR(E8/B8*100,0) -> 109.04142 | G8: =IFERROR(E8/D8*100,0) -> 45.203919
A9: 6 PRIHODI POSLOVANJA | B9: =' Račun prihoda i rashoda'!B7 -> 1238723.1 | C9: =' Račun prihoda i rashoda'!C7 -> 2940578 | D9: =' Račun prihoda i rashoda'!D7 -> 2988072.5 | E9: =' Račun prihoda i rashoda'!E7 -> 1350608.1 | F9: =IFERROR(E9/B9*100,0) -> 109.03229 | G9: =IFERROR(E9/D9*100,0) -> 45.199977
A10: 7 PRIHODI OD PRODAJE NEFINANCIJSKE IMOVINE | B10: =' Račun prihoda i rashoda'!B24 -> 58.16 | C10: =' Račun prihoda i rashoda'!C24 -> 130 | D10: =' Račun prihoda i rashoda'!D24 -> 130 | E10: =' Račun prihoda i rashoda'!E24 -> 176.54 | F10: =IFERROR(E10/B10*100,0) -> 303.54195 | G10: =IFERROR(E10/D10*100,0) -> 135.8
A11: RASHODI UKUPNO | B11: =SUM(B12:B13) -> 1235291.5 | C11: =SUM(C12:C13) -> 2940708 | D11: =SUM(D12:D13) -> 2993328 | E11: =SUM(E12:E13) -> 1550631.4 | F11: =IFERROR(E11/B11*100,0) -> 125.52757 | G11: =IFERROR(E11/D11*100,0) -> 51.802924
A12: 3 RASHODI POSLOVANJA | B12: =' Račun prihoda i rashoda'!B32 -> 1221563.3 | C12: =' Račun prihoda i rashoda'!C32 -> 2849199 | D12: =' Račun prihoda i rashoda'!D32 -> 2899033 | E12: =' Račun prihoda i rashoda'!E32 -> 1548066.5 | F12: =IFERROR(E12/B12*100,0) -> 126.72831 | G12: =IFERROR(E12/D12*100,0) -> 53.399409
A13: 4 RASHODI ZA NABAVU NEFINANCIJSKE IMOVINE | B13: =' Račun prihoda i rashoda'!B78 -> 13728.23 | C13: =' Račun prihoda i rashoda'!C78 -> 91509 | D13: =' Račun prihoda i rashoda'!D78 -> 94295 | E13: =' Račun prihoda i rashoda'!E78 -> 2564.96 | F13: =IFERROR(E13/B13*100,0) -> 18.683836 | G13: =IFERROR(E13/D13*100,0) -> 2.7201442
A14: RAZLIKA - VIŠAK MANJAK | B14: =B8-B11 -> 3489.7 | C14: =C8-C11 -> 0 | D14: =D8-D11 -> -5125.52 | E14: =E8-E11 -> -199846.82 | F14: =IFERROR(E14/B14*100,0) -> -5726.7622 | G14: =IFERROR(E14/D14*100,0) -> 3899.0545
A16: SAŽETAK RAČUNA FINANCIRANJA
A17: BROJČANA OZNAKA I NAZIV | B17: IZVRŠENJE 01.01.-30.06.2024. | C17: PLAN 2025. | D17: I REBALANS 2025. | E17: IZVRŠENJE 01.01.-30.06.2025. | F17: IND. (5/2) | G17: IND. (5/4)
A18: 1 | B18: 2 | C18: 3 | D18: 4 | E18: 5 | F18: 6 | G18: 7
A19: 8 PRIMICI OD FINANCIJSKE IMOVINE I ZADUŽIVANJA | B19: 0 | C19: 0 | D19: 0 | E19: 0 | F19: =IFERROR(E19/B19*100,0) -> 0 | G19: =IFERROR(E19/D19*100,0) -> 0
A20: 5 IZDACI ZA FINANCIJSKU IMOVINU I OTPLATE ZAJMOVA | B20: 0 | C20: 0 | D20: 0 | E20: 0 | F20: =IFERROR(E20/B20*100,0) -> 0 | G20: =IFERROR(E20/D20*100,0) -> 0
A21: RAZLIKA PRIMITAKA I IZDATAKA | B21: 0 | C21: 0 | D21: 0 | E21: 0 | F21: =IFERROR(E21/B21*100,0) -> 0 | G21: =IFERROR(E21/D21*100,0) -> 0
A22: PRENESENI VIŠAK/MANJAK IZ PRETHODNE GODINE | B22: =' Račun prihoda i rashoda'!B28 -> 0 | C22: =' Račun prihoda i rashoda'!C28 -> 0 | D22: 0 | E22: =' Račun prihoda i rashoda'!E28 -> 0 | F22: =IFERROR(E22/B22*100,0) -> 0 | G22: =IFERROR(E22/D22*100,0) -> 0
A23: PRIJENOS VIŠKA/MANJKA U SLJEDEĆE RAZDOBLJE
A25: SAŽETAK RAČUNA PRIHODA I RASHODA I RAČUNA FINANCIRANJA može sadržavati i dodatne podatke.
A27: Napomena: Iznosi u stupcu "OSTVARENJE/IZVRŠENJE N-1." preračunavaju se iz kuna u eure prema fiksnom tečaju konverzije (1 EUR=7,53450 kuna) i po pravilima za preračunavanje i zaokruživanje.
A28: Napomena : "N" označava razdoblje
A29: * Opći i posebni dio izvještaja o izvršenju proračuna sadrži samo izvorni plan ako od donošenja proračuna nije bilo izmjena i dopuna niti izvršenih preraspodjela odnosno izvorni plan i tekući plan ako je od donošenja proračuna bilo naknadno izvršenih preraspodjela. Opći i posebni dio izvještaja o izvršenju proračuna sadrži rebalans ako je od donošenja proračuna bilo izmjena i dopuna, odnosno rebalans i tekući plan ako je od izmjena i dopuna proračuna bilo naknadno izvršenih preraspodjela.
A31: ** AKO Opći i Posebni dio izvještaja ne sadrži "TEKUĆI PLAN N.", "INDEKS"("OSTVARENJE/IZVRŠENJE N."/"TEKUĆI PLAN N.") iskazuje se kao "OSTVARENJE/IZVRŠENJE N."/"IZVORNI PLAN N." ODNOSNO "REBALANS N."

Sheet  Račun prihoda i rashoda
A1: RAČUN PRIHODA I RASHODA
A2: IZVJEŠTAJ O PRIHODIMA I RASHODIMA PREMA EKONOMSKOJ KLASIFIKACIJI
A4: Oznaka | B4: IZVRŠENJE 01.01.-30.06.2024. | C4: PLAN 2025. | D4: I REBALANS 2025. | E4: IZVRŠENJE 01.01.-30.06.2025. | F4: IND. (5/2) | G4: IND. (5/4)
A5: 1 | B5: 2 | C5: 3 | D5: 4 | E5: 5 | F5: 6 | G5: 6
A6: SVEUKUPNO PRIHODI I PRIMICI I NEUTROŠENA SREDSTVA | B6: 1238781.2 | C6: 2940708 | D6: 2993328 | E6: 1350784.6 | F6: =IFERROR(E6/B6*100,0) -> 109.04142 | G6: =IFERROR(E6/D6*100,0) -> 45.126515
A7: 6 Prihodi poslovanja | B7: 1238723.1 | C7: 2940578 | D7: 2988072.5 | E7: 1350608.1 | F7: =IFERROR(E7/B7*100,0) -> 109.03229 | G7: =IFERROR(E7/D7*100,0) -> 45.199977
A8: 63 Pomoći iz inozemstva i od subjekata unutar općeg proračuna | B8: 1046053.8 | C8: 2498513 | D8: 2492232.8 | E8: 1131253.9 | F8: =IFERROR(E8/B8*100,0) -> 108.14491 | G8: =IFERROR(E8/D8*100,0) -> 45.391182
A9: 634 Pomoći od izvanproračunskih korisnika | B9: 0 | C9: 17809 | D9: 0 | E9: 0 | F9: =IFERROR(E9/B9*100,0) -> 0 | G9: =IFERROR(E9/D9*100,0) -> 0
A10: 636 Pomoći proračunskim korisnicima iz proračuna koji im nije nadležan | B10: 1046053.8 | C10: 2480704 | D10: 2492232.8 | E10: 1131253.9 | F10: =IFERROR(E10/B10*100,0) -> 108.14491 | G10: =IFERROR(E10/D10*100,0) -> 45.391182
A11: 6361 Tekuće pomoći proračunskim korisnicima iz proračuna koji im nije nadležan | B11: 1046053.8 | C11: 0 | D11: 0 | E11: 1131253.9 | F11: =IFERROR(E11/B11*100,0) -> 108.14491 | G11: =IFERROR(E11/D11*100,0) -> 0
A12: 65 Prihodi od upravnih i administrativnih pristojbi, pristojbi po posebnim propisima i naknada | B12: 24570.01 | C12: 64417 | D12: 67397.06 | E12: 23616 | F12: =IFERROR(E12/B12*100,0) -> 96.117177 | G12: =IFERROR(E12/D12*100,0) -> 35.040104
A13: 652 Prihodi po posebnim propisima | B13: 24570.01 | C13: 64417 | D13: 67397.06 | E13: 23616 | F13: =IFERROR(E13/B13*100,0) -> 96.117177 | G13: =IFERROR(E13/D13*100,0) -> 35.040104
A14: 6526 Ostali nespomenuti prihodi | B14: 24570.01 | C14: 0 | D14: 0 | E14: 23616 | F14: =IFERROR(E14/B14*100,0) -> 96.117177 | G14: =IFERROR(E14/D14*100,0) -> 0
A15: 66 Prihodi od prodaje proizvoda i robe te pruženih usluga i prihodi od donacija te povrati po protestiranim jamstvima | B15: 1141.5 | C15: 6083 | D15: 6123.62 | E15: 2241.5 | F15: =IFERROR(E15/B15*100,0) -> 196.36443 | G15: =IFERROR(E15/D15*100,0) -> 36.604166
A16: 661 Prihodi od prodaje proizvoda i robe te pruženih usluga | B16: 541.5 | C16: 1083 | D16: 1123.62 | E16: 541.5 | F16: =IFERROR(E16/B16*100,0) -> 100 | G16: =IFERROR(E16/D16*100,0) -> 48.192449
A17: 6615 Prihodi od pruženih usluga | B17: 541.5 | C17: 0 | D17: 0 | E17: 541.5 | F17: =IFERROR(E17/B17*100,0) -> 100 | G17: =IFERROR(E17/D17*100,0) -> 0
... A90: 4511 Dodatna ulaganja na građevinskim objektima | B90: 12326.14 | C90: 0 | D90: 0 | E90: 0 | F90: =IFERROR(E90/B90*100,0) -> 0 | G90: =IFERROR(E90/D90*100,0) -> 0

Sheet Rashodi i prihodi prema izvoru
A1: IZVJEŠTAJ O RASHODIMA PREMA FUNKCIJSKOJ KLASIFIKACIJI
A3: Oznaka | B3: IZVRŠENJE 01.01.-30.06.2024. | C3: PLAN 2025. | D3: I REBALANS 2025. | E3: IZVRŠENJE 01.01.-30.06.2025. | F3: IND. (5/2) | G3: IND. (5/4)
A4: 1 | B4: 2 | C4: 3 | D4: 4 | E4: 5 | F4: 6 | G4: 6
A5: SVEUKUPNO PRIHODI I PRIMICI I NEUTROŠENA SREDSTVA | B5: 1238781.2 | C5: 2940708 | D5: 2993328 | E5: 1350784.6 | F5: =IFERROR(E5/B5*100,0) -> 109.04142 | G5: =IFERROR(E5/D5*100,0) -> 45.126515
A6: 01 Opći prihodi i primici | B6: 16797.97 | C6: 79553 | D6: 105565 | E6: 22868.53 | F6: =IFERROR(E6/B6*100,0) -> 136.13865 | G6: =IFERROR(E6/D6*100,0) -> 21.662985
A7: 03 Vlastiti prihodi | B7: 541.5 | C7: 1083 | D7: 2183 | E7: 541.5 | F7: =IFERROR(E7/B7*100,0) -> 100 | G7: =IFERROR(E7/D7*100,0) -> 24.805314
A8: 05 Pomoći | B8: 140706.92 | C8: 234457 | D8: 274284 | E8: 152230.78 | F8: =IFERROR(E8/B8*100,0) -> 108.18997 | G8: =IFERROR(E8/D8*100,0) -> 55.501152
A9: 432 PRIHODI ZA POSEBNE NAMJENE - korisnici | B9: 24570.01 | C9: 64417 | D9: 68147 | E9: 23616 | F9: =IFERROR(E9/B9*100,0) -> 96.117177 | G9: =IFERROR(E9/D9*100,0) -> 34.654497
A10: 434 PRIHOD ZA POSEBNE NAMJENE - korisnici | B10: 0 | C10: 17809 | D10: 0 | E10: 0 | F10: =IFERROR(E10/B10*100,0) -> 0 | G10: =IFERROR(E10/D10*100,0) -> 0
A11: 503 POMOĆI IZ NENADLEŽNIH PRORAČUNA - KORISNICI | B11: 67408.09 | C11: 250072 | D11: 263599 | E11: 78972.86 | F11: =IFERROR(E11/B11*100,0) -> 117.15635 | G11: =IFERROR(E11/D11*100,0) -> 29.959469
A12: 512 Pomoći iz državnog proračuna - plaće MZOS | B12: 978645.71 | C12: 2230632 | D12: 2231600 | E12: 1052281.1 | F12: =IFERROR(E12/B12*100,0) -> 107.52421 | G12: =IFERROR(E12/D12*100,0) -> 47.153659
A13: 56 Fondovi EU-a | B13: 9452.88 | C13: 57555 | D13: 42470 | E13: 18397.35 | F13: =IFERROR(E13/B13*100,0) -> 194.62164 | G13: =IFERROR(E13/D13*100,0) -> 43.31846
A14: 611 Donacije | B14: 600 | C14: 5000 | D14: 5350 | E14: 1700 | F14: =IFERROR(E14/B14*100,0) -> 283.33333 | G14: =IFERROR(E14/D14*100,0) -> 31.775701
A15: 711 Prihodi od nefinancijske imovine i nadoknade štete s osnova osiguranja | B15: 58.16 | C15: 130 | D15: 130 | E15: 176.54 | F15: =IFERROR(E15/B15*100,0) -> 303.54195 | G15: =IFERROR(E15/D15*100,0) -> 135.8
A16: SVEUKUPNO RASHODI I IZDACI | B16: 1235291.5 | C16: 2940708 | D16: 2993328 | E16: 1550631.4 | F16: =IFERROR(E16/B16*100,0) -> 125.52757 | G16: =IFERROR(E16/D16*100,0) -> 51.802924
... A26: 711 Prihodi od nefinancijske imovine i nadoknade štete s osnova osiguranja | B26: 0 | C26: 130 | D26: 130 | E26: 0 | F26: =IFERROR(E26/B26*100,0) -> 0 | G26: =IFERROR(E26/D26*100,0) -> 0

Sheet RASHODI PREMA FUNK. KLASI
A1: IZVJEŠTAJ O RASHODIMA PREMA FUNKCIJSKOJ KLASIFIKACIJI
A3: Oznaka | B3: IZVRŠENJE 01.01.-30.06.2024. | C3: PLAN 2025. | D3: I REBALANS 2025. | E3: IZVRŠENJE 01.01.-30.06.2025. | F3: IND. (5/2) | G3: IND. (5/4)
A4: 1 | B4: 2 | C4: 3 | D4: 4 | E4: 5 | F4: 6 | G4: 6
A5: SVEUKUPNO | B5: 1235291.5 | C5: 2940708 | D5: 2993328 | E5: 1550631.4 | F5: =IFERROR(E5/B5*100,0) -> 125.52757 | G5: =IFERROR(E5/D5*100,0) -> 51.802924
A6: 09 OBRAZOVANJE | B6: 1235291.5 | C6: 2940708 | D6: 2993328 | E6: 1550631.4 | F6: =IFERROR(E6/B6*100,0) -> 125.52757 | G6: =IFERROR(E6/D6*100,0) -> 51.802924
A7: 091 Predškolsko i osnovno obrazovanje | B7: 1186741.1 | C7: 2673469 | D7: 2731176 | E7: 1468926 | F7: =IFERROR(E7/B7*100,0) -> 123.77814 | G7: =IFERROR(E7/D7*100,0) -> 53.783646
A8: 0912 Osnovno obrazovanje | B8: 1186741.1 | C8: 2673469 | D8: 2731176 | E8: 1468926 | F8: =IFERROR(E8/B8*100,0) -> 123.77814 | G8: =IFERROR(E8/D8*100,0) -> 53.783646
A9: 096 Dodatne usluge u obrazovanju | B9: 48550.47 | C9: 267239 | D9: 262152 | E9: 81705.41 | F9: =IFERROR(E9/B9*100,0) -> 168.28964 | G9: =IFERROR(E9/D9*100,0) -> 31.167189
A10: 0960 Dodatne usluge u obrazovanju | B10: 48550.47 | C10: 267239 | D10: 262152 | E10: 81705.41 | F10: =IFERROR(E10/B10*100,0) -> 168.28964 | G10: =IFERROR(E10/D10*100,0) -> 31.167189

Sheet Račun financiranja 
A2: RAČUN FINANCIRANJA
A3: IZVJEŠTAJ RAČUNA FINANCIRANJA PREMA EKONOMSKOJ KLASIFIKACIJI
A5: BROJČANA OZNAKA I NAZIV | C5: IZVRŠENJE 01.01.-30.06.2024. | D5: PLAN 2025. | E5: I REBALANS 2025. | F5: IZVRŠENJE 01.01.-30.06.2025. | G5: IND. (5/2) | H5: IND. (5/4)
A6: 1 | C6: 2 | D6: 3 | E6: 4 | F6: 5 | G6: 6 | H6: 7
A7: 8 | B7: Primici od financijske imovine i zaduživanja | C7: 0 | D7: 0 | E7: 0 | F7: 0 | G7: 0 | H7: 0
A8: 5 | B8: Izdaci za financijsku imovinu i otplate zajmova | C8: 0 | D8: 0 | E8: 0 | F8: 0 | G8: 0 | H8: 0

Sheet Račun fin prema izvorima f
A2: IZVJEŠTAJ RAČUNA FINANCIRANJA PREMA IZVORIMA FINANCIRANJA
A4: BROJČANA OZNAKA I NAZIV | B4: IZVRŠENJE 01.01.-30.06.2024. | C4: PLAN 2025. | D4: I REBALANS 2025. | E4: IZVRŠENJE 01.01.-30.06.2025. | F4: IND. (5/2) | G4: IND. (5/4)
A5: 1 | B5: 2 | C5: 3 | D5: 4 | E5: 5 | F5: 6 | G5: 7
A6: UKUPNO PRIMICI | B6: 0 | C6: 0 | D6: 0 | E6: 0 | F6: 0 | G6: 0
A7: 03 Vlastiti prihodi | B7: 0 | C7: 0 | D7: 0 | E7: 0 | F7: 0 | G7: 0
A8: UKUPNO IZDACI | B8: 0 | C8: 0 | D8: 0 | E8: 0 | F8: 0 | G8: 0
A9: 03 Vlastiti prihodi | B9: 0 | C9: 0 | D9: 0 | E9: 0 | F9: 0 | G9: 0

Sheet POSEBNI DIO
A1: II. POSEBNI DIO
A2: IZVJEŠTAJ PO PROGRAMSKOJ KLASIFIKACIJI
A3: Oznaka | B3: IZVRŠENJE 01.01.-30.06.2024. | C3: PLAN 2025. | D3: I REBALANS 2025. | E3: IZVRŠENJE 01.01.-30.06.2025. | F3: IND. (5/2) | G3: IND. (5/4)
A4: 1 | B4: 2 | C4: 3 | D4: 4 | E4: 5 | F4: 6 | G4: 6
A5: PRVA OSNOVNA ŠKOLA OGULIN RAZDJEL: 003 - UPRAVNI ODJEL ZA ŠKOLSTVO; GLAVA 012 (2025. godina) RAZDJEL: 003 - UPRAVNI ODJEL ZA DRUŠTVENE DJELATNOSTI; GLAVA 003 (2025. godina)
A6: SVEUKUPNO | B6: 1235291.5 | C6: 2940708 | D6: 2993328 | E6: 1550631.4 | F6: =IFERROR(E6/B6*100,0) -> 125.52757 | G6: =IFERROR(E6/D6*100,0) -> 51.802924
A7: 121 Zakonski standardi javnih ustanova OŠ | B7: 140602.25 | C7: 224792 | D7: 268004 | E7: 155465.87 | F7: =IFERROR(E7/B7*100,0) -> 110.5714 | G7: =IFERROR(E7/D7*100,0) -> 58.008787
A8: A100034 Odgojnoobrazovno, administrativno i tehničko osoblje | B8: 24565.97 | C8: 39072 | D8: 38004 | E8: 29403.47 | F8: =IFERROR(E8/B8*100,0) -> 119.69187 | G8: =IFERROR(E8/D8*100,0) -> 77.369408
A9: Funk. kl.: 0912 Osnovno obrazovanje | B9: 24565.97 | C9: 39072 | D9: 38004 | E9: 29403.47 | F9: =IFERROR(E9/B9*100,0) -> 119.69187 | G9: =IFERROR(E9/D9*100,0) -> 77.369408
A10: 05 Pomoći | B10: 24565.97 | C10: 39072 | D10: 38004 | E10: 29403.47 | F10: =IFERROR(E10/B10*100,0) -> 119.69187 | G10: =IFERROR(E10/D10*100,0) -> 77.369408
A11: 3 Rashodi poslovanja | B11: 24565.97 | C11: 39072 | D11: 38004 | E11: 29403.47 | F11: =IFERROR(E11/B11*100,0) -> 119.69187 | G11: =IFERROR(E11/D11*100,0) -> 77.369408
A12: 32 Materijalni rashodi | B12: 24319.77 | C12: 38572 | D12: 37842.7 | E12: 29242.17 | F12: =IFERROR(E12/B12*100,0) -> 120.24032 | G12: =IFERROR(E12/D12*100,0) -> 77.272948
A13: 3211 Službena putovanja | B13: 2644.69 | C13: 0 | D13: 0 | E13: 1611.58 | F13: =IFERROR(E13/B13*100,0) -> 60.936442 | G13: =IFERROR(E13/D13*100,0) -> 0
A14: 3213 Stručno usavršavanje zaposlenika | B14: 191 | C14: 0 | D14: 0 | E14: 135 | F14: =IFERROR(E14/B14*100,0) -> 70.680628 | G14: =IFERROR(E14/D14*100,0) -> 0
A15: 3214 Ostale naknade troškova zaposlenima | B15: 1026.02 | C15: 0 | D15: 0 | E15: 2021.6 | F15: =IFERROR(E15/B15*100,0) -> 197.0332 | G15: =IFERROR(E15/D15*100,0) -> 0
A16: 3221 Uredski materijal i ostali materijalni rashodi | B16: 4008.27 | C16: 0 | D16: 0 | E16: 5551.6 | F16: =IFERROR(E16/B16*100,0) -> 138.50364 | G16: =IFERROR(E16/D16*100,0) -> 0
A17: 3223 Energija | B17: 168.64 | C17: 0 | D17: 0 | E17: 206.89 | F17: =IFERROR(E17/B17*100,0) -> 122.68145 | G17: =IFERROR(E17/D17*100,0) -> 0
... A220: 34 Financijski rashodi | B220: 0 | C220: 500 | D220: 500 | E220: 0 | F220: =IFERROR(E220/B220*100,0) -> 0 | G220: =IFERROR(E220/D220*100,0) -> 0
