BEGIN:VCALENDAR
VERSION:2.0
PRODID:-//Prva osnovna škola Ogulin - ECPv6.15.13//NONSGML v1.0//EN
CALSCALE:GREGORIAN
METHOD:PUBLISH
X-ORIGINAL-URL:https://prva-osnovna-skola.hr
X-WR-CALDESC:Events for Prva osnovna škola Ogulin
REFRESH-INTERVAL;VALUE=DURATION:PT1H
X-Robots-Tag:noindex
X-PUBLISHED-TTL:PT1H
BEGIN:VTIMEZONE
TZID:UTC
BEGIN:STANDARD
TZOFFSETFROM:+0000
TZOFFSETTO:+0000
TZNAME:UTC
DTSTART:20240101T000000
END:STANDARD
END:VTIMEZONE
BEGIN:VTIMEZONE
TZID:Europe/Paris
BEGIN:DAYLIGHT
TZOFFSETFROM:+0100
TZOFFSETTO:+0200
TZNAME:CEST
DTSTART:20240331T010000
END:DAYLIGHT
BEGIN:STANDARD
TZOFFSETFROM:+0200
TZOFFSETTO:+0100
TZNAME:CET
DTSTART:20241027T010000
END:STANDARD
BEGIN:DAYLIGHT
TZOFFSETFROM:+0100
TZOFFSETTO:+0200
TZNAME:CEST
DTSTART:20250330T010000
END:DAYLIGHT
BEGIN:STANDARD
TZOFFSETFROM:+0200
TZOFFSETTO:+0100
TZNAME:CET
DTSTART:20251026T010000
END:STANDARD
BEGIN:DAYLIGHT
TZOFFSETFROM:+0100
TZOFFSETTO:+0200
TZNAME:CEST
DTSTART:20260329T010000
END:DAYLIGHT
BEGIN:STANDARD
TZOFFSETFROM:+0200
TZOFFSETTO:+0100
TZNAME:CET
DTSTART:20261025T010000
END:STANDARD
END:VTIMEZONE
BEGIN:VEVENT
DTSTART;VALUE=DATE:20260210
DTEND;VALUE=DATE:20260211
DTSTAMP:20260420T120659
CREATED:20260205T150944Z
LAST-MODIFIED:20260206T083729Z
UID:7124-1770681600-1770767999@prva-osnovna-skola.hr
SUMMARY:Dan sigurnijeg interneta u Prvoj osnovnoj školi Ogulin 🌐💻
DESCRIPTION:Dragi učenici i roditelji\, \nPrva osnovna škola Ogulin s ponosom najavljuje obilježavanje Dana sigurnijeg interneta 10. veljače 2026. godine. Tijekom cijelog tjedna\, od 10. do 14. veljače\, provodit ćemo niz aktivnosti i radionica kako bismo potaknuli sigurnu\, odgovornu i pozitivnu upotrebu interneta. \nUčenici 7. razreda  matične škole će sudjelovati u zajedničkom KAHOOT kvizu na temu Elektroničkog nasilja\, Internetskog bontona i Digitalnih tragova. 10. veljače će se okupiti u holu škole u 8:00 sati te će putem svojih mobitela ponoviti gradivo koje su obradili na satu informatike sa učiteljicom Ivanom Kurelac. Kviz je pripremila učiteljica Ivana Kurelac te se sastoji od 30 pitanja. Na kraju će se proglasiti prav tri pobjednika i nagradit će ih se sa prigodnim poklonima. \nRiješi anonimnu anketu.
URL:https://prva-osnovna-skola.hr/event/dan-sigurnijeg-interneta-u-prvoj-osnovnoj-skoli-ogulin-%f0%9f%8c%90%f0%9f%92%bb/
LOCATION:Prva osnovna škola Ogulin\, Bolnička 11\, Ogulin\, Croatia (Local Name: Hrvatska)
CATEGORIES:Događanja
ATTACH;FMTTYPE=image/png:https://prva-osnovna-skola.hr/wp-content/uploads/2025/01/smart-slider-dsi-2026-scaled-1.png
END:VEVENT
BEGIN:VEVENT
DTSTART;VALUE=DATE:20250527
DTEND;VALUE=DATE:20250528
DTSTAMP:20260420T120659
CREATED:20250527T184104Z
LAST-MODIFIED:20250527T184104Z
UID:8881-1748304000-1748390399@prva-osnovna-skola.hr
SUMMARY:PREDSTAVA "SNJEŽNA KRALJICA"
DESCRIPTION:Snježna kraljica je stigla  Prva predstava je iza nas. Predstave za građanstvo biti će na ogfb 7.6. u 19\,30h\, zatim 10.6. i 11.6. u 18\,00h. Pozivamo vas da dođete pogledati odličnu predstavu i da se dobro zabavite i nasmijete. I da naravno\, predstava će se održati u Prvoj osnovnoj školi na našoj pozornici \nDobro nam došli.
URL:https://prva-osnovna-skola.hr/event/predstava-snjezna-kraljica/
LOCATION:Prva osnovna škola Ogulin\, Bolnička 11\, Ogulin\, Croatia (Local Name: Hrvatska)
CATEGORIES:Događanja
END:VEVENT
BEGIN:VEVENT
DTSTART;TZID=UTC:20250506T080000
DTEND;TZID=UTC:20250509T180000
DTSTAMP:20260420T120659
CREATED:20250105T151753Z
LAST-MODIFIED:20250130T184016Z
UID:7129-1746518400-1746813600@prva-osnovna-skola.hr
SUMMARY:Dani medijske pismenosti u Prvoj osnovnoj školi Ogulin 📰📱
DESCRIPTION:Dragi učenici i roditelji\, \nPrva osnovna škola Ogulin s veseljem najavljuje sudjelovanje u obilježavanju Dana medijske pismenosti od 6. do 9. svibnja 2025. godine. Tijekom ovog razdoblja organiziramo raznovrsne aktivnosti kako bismo učenike\, roditelje i učitelje educirali o važnosti kritičkog razmišljanja i odgovornog korištenja medija.
URL:https://prva-osnovna-skola.hr/event/dani-medijske-pismenosti-u-prvoj-osnovnoj-skoli-ogulin-%f0%9f%93%b0%f0%9f%93%b1/
LOCATION:Prva osnovna škola Ogulin\, Bolnička 11\, Ogulin\, Croatia (Local Name: Hrvatska)
CATEGORIES:Događanja
ATTACH;FMTTYPE=image/jpeg:https://prva-osnovna-skola.hr/wp-content/uploads/2025/01/pas-4.jpg
END:VEVENT
BEGIN:VEVENT
DTSTART;TZID=Europe/Paris:20250214T190000
DTEND;TZID=Europe/Paris:20250214T220000
DTSTAMP:20260420T120659
CREATED:20250105T143809Z
LAST-MODIFIED:20250214T065205Z
UID:7116-1739559600-1739570400@prva-osnovna-skola.hr
SUMMARY:Proslava Valentinova
DESCRIPTION:Dragi učenici\, roditelji i prijatelji\, \nS veseljem vas pozivamo na proslavu Valentinova u Prvoj osnovnoj školi Ogulin! 🌹\nPridružite nam se u slavlju ljubavi\, prijateljstva i zajedništva kroz zabavne aktivnosti i ples. \nDođite i zajedno s nama stvorite nezaboravne uspomene! 🌟\nRadujemo se vašem dolasku! \nVaša Prva osnovna škola Ogulin ❤️
URL:https://prva-osnovna-skola.hr/event/proslava-valentinova/
LOCATION:Prva osnovna škola Ogulin\, Bolnička 11\, Ogulin\, Croatia (Local Name: Hrvatska)
ATTACH;FMTTYPE=image/png:https://prva-osnovna-skola.hr/wp-content/uploads/2025/01/DISCO.png
END:VEVENT
END:VCALENDAR